BEGIN:VCALENDAR
VERSION:2.0
PRODID:-//ChamberMaster//Event Calendar 2.0//EN
METHOD:PUBLISH
X-PUBLISHED-TTL:P3D
REFRESH-INTERVAL:P3D
CALSCALE:GREGORIAN
BEGIN:VEVENT
DTSTART:20171028T230000Z
DTEND:20171029T020000Z
X-MICROSOFT-CDO-ALLDAYEVENT:FALSE
SUMMARY:Pour Your Art Out - Fine Art Gala
DESCRIPTION:Come and mingle while you view fine art works\, sample good wines\, and enjoy hors d'oeuvres by the talented student's of Badger High School's Culinary Program. A percentage of any art purchases made on this special night goes directly to the Big Brothers Big Sisters Youth Mentoring Program of Walworth\, Rock and Jefferson Counties.
X-ALT-DESC;FMTTYPE=text/html:Come and mingle while you view fine art works\, sample good wines\, and enjoy hors d&#39\;oeuvres by the talented student&#39\;s of Badger High School&#39\;s Culinary Program. A percentage of any art purchases made on this special night goes directly to the Big Brothers Big Sisters Youth Mentoring Program of Walworth\, Rock and Jefferson Counties.
LOCATION:Grand Ballroom\, The Grand Geneva Resort - 7036 Grand Geneva Way Lake Geneva\, WI
UID:e.2059.6098
SEQUENCE:3
DTSTAMP:20260422T201406Z
URL:https://business.elkhornchamber.com/events/details/pour-your-art-out-fine-art-gala-6098
END:VEVENT

END:VCALENDAR
