BEGIN:VCALENDAR
VERSION:2.0
PRODID:-//ChamberMaster//Event Calendar 2.0//EN
METHOD:PUBLISH
X-PUBLISHED-TTL:P3D
REFRESH-INTERVAL:P3D
CALSCALE:GREGORIAN
BEGIN:VEVENT
DTSTART:20191117T000000Z
DTEND:20191117T030000Z
X-MICROSOFT-CDO-ALLDAYEVENT:FALSE
SUMMARY:Pour your Art Out~ Art & Wine Gala 2019
DESCRIPTION:Join Big Brothers Big Sisters for their 2019 Pour your Art out ~Art & Wine Gala at Evergreen Country Club on November 16th from 6-9 PM
X-ALT-DESC;FMTTYPE=text/html:Join Big Brothers Big Sisters for their 2019 Pour your Art out ~Art &amp\; Wine Gala at Evergreen Country Club on November 16th from 6-9 PM<br />\n&nbsp\;
LOCATION:Evergreen Country Club Elkhorn\, WI
UID:e.2059.11235
SEQUENCE:3
DTSTAMP:20260420T055506Z
URL:https://business.elkhornchamber.com/events/details/pour-your-art-out-art-wine-gala-2019-11235
END:VEVENT

END:VCALENDAR
