BEGIN:VCALENDAR
VERSION:2.0
PRODID:-//ChamberMaster//Event Calendar 2.0//EN
METHOD:PUBLISH
X-PUBLISHED-TTL:P3D
REFRESH-INTERVAL:P3D
CALSCALE:GREGORIAN
BEGIN:VEVENT
DTSTART;VALUE=DATE:20181110
DTEND;VALUE=DATE:20181111
TRANSP:TRANSPARENT
X-MICROSOFT-CDO-ALLDAYEVENT:TRUE
SUMMARY:Pour your Art Out~ Art & Wine Gala 2018
DESCRIPTION:Join Big Brothers Big Sisters for their 2018 Pour your Art out ~Art & Wine Gala at Evergreen Country Club.\n\nMore information coming.
X-ALT-DESC;FMTTYPE=text/html:Join Big Brothers Big Sisters for their 2018 Pour your Art out ~Art &amp\; Wine Gala at Evergreen Country Club.<br />\nMore information coming.
LOCATION:Evergreen Country Club Elkhorn\, WI
UID:e.2059.8659
SEQUENCE:3
DTSTAMP:20260422T002257Z
URL:https://business.elkhornchamber.com/events/details/pour-your-art-out-art-wine-gala-2018-8659
END:VEVENT

END:VCALENDAR
