BEGIN:VCALENDAR
VERSION:2.0
PRODID:-//ChamberMaster//Event Calendar 2.0//EN
METHOD:PUBLISH
X-PUBLISHED-TTL:P3D
REFRESH-INTERVAL:P3D
CALSCALE:GREGORIAN
BEGIN:VEVENT
DTSTART:20170621T210000Z
DTEND:20170622T000000Z
X-MICROSOFT-CDO-ALLDAYEVENT:FALSE
SUMMARY:Pork Chop Cookout
DESCRIPTION:Join us for our annul pork chop cookout!
X-ALT-DESC;FMTTYPE=text/html:Join us for our annul pork chop cookout!
LOCATION:Walworth County Fairgrounds 411 E. Court Street Elkhorn
UID:e.2059.5476
SEQUENCE:3
DTSTAMP:20260423T055444Z
URL:https://business.elkhornchamber.com/events/details/pork-chop-cookout-5476
END:VEVENT

END:VCALENDAR
