BEGIN:VCALENDAR
VERSION:2.0
PRODID:-//ChamberMaster//Event Calendar 2.0//EN
METHOD:PUBLISH
X-PUBLISHED-TTL:P3D
REFRESH-INTERVAL:P3D
CALSCALE:GREGORIAN
BEGIN:VEVENT
DTSTART:20190619T210000Z
DTEND:20190620T000000Z
X-MICROSOFT-CDO-ALLDAYEVENT:FALSE
SUMMARY:Pork Chop Cookout
DESCRIPTION:Don't miss the Annual Pork Chop Cookout at the Walworth County Fairgrounds. \n\nMenu:\n\n2 boneless pork chops\n\nbaked potato\n\ncole slaw\n\napplesauce\n\nrye bread\n\nice cream\n\nbeverage\n\n(dessert at additional cost from Fairest Scholarship Committee)\n\nProceeds go to renovations to the buidings in our park.
X-ALT-DESC;FMTTYPE=text/html:Don&#39\;t miss the Annual Pork Chop Cookout&nbsp\;at the Walworth County Fairgrounds.&nbsp\;<br />\nMenu:<br />\n2 boneless pork chops<br />\nbaked potato<br />\ncole slaw<br />\napplesauce<br />\nrye bread<br />\nice cream<br />\nbeverage<br />\n(dessert at additional cost from Fairest Scholarship Committee)<br />\nProceeds go to renovations to the buidings in our park.
LOCATION:Walworth County Fairgrounds Activity Center 411 East Court Street Elkhorn\, Wi
UID:e.2059.10275
SEQUENCE:3
DTSTAMP:20260421T032457Z
URL:https://business.elkhornchamber.com/events/details/pork-chop-cookout-10275
END:VEVENT

END:VCALENDAR
