BEGIN:VCALENDAR
VERSION:2.0
PRODID:-//ChamberMaster//Event Calendar 2.0//EN
METHOD:PUBLISH
X-PUBLISHED-TTL:P3D
REFRESH-INTERVAL:P3D
CALSCALE:GREGORIAN
BEGIN:VEVENT
DTSTART:20150624T210000Z
DTEND:20150625T000000Z
X-MICROSOFT-CDO-ALLDAYEVENT:FALSE
SUMMARY:Pork Chop Cookout
DESCRIPTION:Come enjoy a delicious pork chop dinner at the Walworth County Fairgrounds Activity Center. Menu includes boneless pork chop(s)\, baked potato\, coleslaw\, applesauce\, rye bread\, ice cream and a drink. Drive thru carryouts available. Proceeds go towards the restoration of historic buildings in the fair park and repair of the Activity Center windows.    \n\n\n\nTickets available at the Elkhorn Chamber.
X-ALT-DESC;FMTTYPE=text/html:Come enjoy a delicious pork chop dinner at the Walworth County Fairgrounds Activity Center. Menu includes boneless pork chop(s)\, baked potato\, coleslaw\, applesauce\, rye bread\, ice cream and a drink. Drive thru carryouts available. Proceeds go towards the restoration of historic buildings in the fair park and repair of the Activity Center windows.&nbsp\;&nbsp\;&nbsp\;&nbsp\;<br />\n<br />\nTickets available at the Elkhorn Chamber.
LOCATION:Walworth County Fairgrounds Activity Center
UID:e.2059.1579
SEQUENCE:3
DTSTAMP:20260424T192515Z
URL:https://business.elkhornchamber.com/events/details/pork-chop-cookout-06-24-2015-1579
END:VEVENT

END:VCALENDAR
