BEGIN:VCALENDAR
VERSION:2.0
PRODID:-//ChamberMaster//Event Calendar 2.0//EN
METHOD:PUBLISH
X-PUBLISHED-TTL:P3D
REFRESH-INTERVAL:P3D
CALSCALE:GREGORIAN
BEGIN:VEVENT
DTSTART:20160622T210000Z
DTEND:20160623T000000Z
X-MICROSOFT-CDO-ALLDAYEVENT:FALSE
SUMMARY:Pork Chop Cookout
DESCRIPTION:Dinner is being served from 4:00 p.m. to 7:00 p.m. and each ticket purchased provides you with a menu that includes 2 grilled boneless pork chops\, a baked potato\, coleslaw\, apple sauce\, rye bread\, a beverage and ice cream.\n\nAdvance tickets are $10.00 for adults and $7.00 for children 12 and under.  \n\n \n\nCall the fairgrounds at (262) 723-3228 for a list of locations that are currently selling tickets.   Tickets will be available at the door and are $11.00 for adults and $8.00 for children 12 and under.\n\n \n\nCarry-outs will also be available\, along with a convenient drive-thru.\n\n \n\nProceeds from this event will benefit the improvements being made to the historical Log Cabin located in the park on the fairgrounds.\n\n\nMake sure you leave some room for dessert because the Fairest of the Fair Dessert Sale featuring delicious homemade goodies will be going on during dinner.  Proceeds from this sale benefit\nWhy you should go: \n"People love the pork chops\, and the cookout is a good way for people to get a delicious meal." \n\n"It's also a lot of food for a good price."\n\n"People come with their Ziplock bags\, eat one of the pork chops here and take the other one home\," \n\n"The cookout brings the community together."\n\n"It's a way for everyone to come together and get excited about the summer." the Fairest of the Fair Scholarship Fund.
X-ALT-DESC;FMTTYPE=text/html:<div>Dinner is being served from 4:00 p.m. to 7:00 p.m. and each ticket purchased provides you with a menu that includes 2 grilled boneless pork chops\, a baked potato\, coleslaw\, apple sauce\, rye bread\, a beverage and ice cream.<br />\nAdvance tickets are $10.00 for adults and $7.00 for children 12 and under. &nbsp\;</div>\n\n<div>&nbsp\;</div>\n\n<div>Call the fairgrounds at (262) 723-3228 for a list of locations that are currently selling tickets. &nbsp\; Tickets will be available at the door and are $11.00 for adults and $8.00 for children 12 and under.</div>\n\n<div>&nbsp\;</div>\n\n<div>Carry-outs will also be available\, along with a convenient drive-thru.</div>\n\n<div>&nbsp\;</div>\n\n<div>Proceeds from this event will benefit the improvements being made to the historical Log Cabin located in the park on the fairgrounds.</div>\n<br />\nMake sure you leave some room for dessert because the Fairest of the Fair Dessert Sale featuring delicious homemade goodies will be going on during dinner. &nbsp\;Proceeds from this sale benefit\n<div><strong><u><span style="font-size: 12pt\;">Why you should go: </span></u></strong></div>\n&quot\;People love the pork chops\, and the cookout is a good way for people to get a delicious meal.&quot\;&nbsp\;<br />\n&quot\;It&#39\;s also a lot of food for a good price.&quot\;<br />\n&ldquo\;People come with their Ziplock bags\, eat one of the pork chops here and take the other one home\,&rdquo\;&nbsp\;<br />\n&quot\;The cookout brings the community together.&quot\;<br />\n&ldquo\;It&#39\;s a way for everyone to come together and get excited about the summer.&rdquo\; the Fairest of the Fair Scholarship Fund.
LOCATION:Walworth County Fairgrounds Activity Center 411 E. Court St Elkhorn\, WI
UID:e.2059.2082
SEQUENCE:3
DTSTAMP:20260423T234203Z
URL:https://business.elkhornchamber.com/events/details/pork-chop-cookout-06-22-2016-2082
END:VEVENT

END:VCALENDAR
