BEGIN:VCALENDAR
VERSION:2.0
PRODID:-//ChamberMaster//Event Calendar 2.0//EN
METHOD:PUBLISH
X-PUBLISHED-TTL:P3D
REFRESH-INTERVAL:P3D
CALSCALE:GREGORIAN
BEGIN:VEVENT
DTSTART:20170923T160000Z
DTEND:20170923T220000Z
X-MICROSOFT-CDO-ALLDAYEVENT:FALSE
SUMMARY:Pork & Chicken Roast at The End Zone
DESCRIPTION:Area Rotary Clubs Unite Against Domestic Violence.\n\nJoin us for a Pork & Chicken Roast at The End Zone.\n\nGreat Food~Music~Raffle & Auction Items\n\nJoin us for a great cause!\n\nAll profits benefit the Association for the Prevention of Family Violence. Their MISSION is to provide supportive services and advocacy for adult and child victims of domestic violence and/or sexual abuse\, and to educate the community about these critical issues.
X-ALT-DESC;FMTTYPE=text/html:Area Rotary Clubs Unite Against Domestic Violence.<br />\nJoin us for a Pork &amp\; Chicken Roast at The End Zone.<br />\nGreat Food~Music~Raffle &amp\; Auction Items<br />\nJoin us for a great cause!<br />\nAll profits benefit the Association for the Prevention of Family Violence. Their MISSION is to provide supportive services and advocacy for adult and child victims of domestic violence and/or sexual abuse\, and to educate the community about these critical issues.
LOCATION:The End Zone Blue Gill Road at South Shore Drive Delavan\, WI
UID:e.2059.6076
SEQUENCE:3
DTSTAMP:20260422T214456Z
URL:https://business.elkhornchamber.com/events/details/pork-chicken-roast-at-the-end-zone-6076
END:VEVENT

END:VCALENDAR
