BEGIN:VCALENDAR
VERSION:2.0
PRODID:-//ChamberMaster//Event Calendar 2.0//EN
METHOD:PUBLISH
X-PUBLISHED-TTL:P3D
REFRESH-INTERVAL:P3D
CALSCALE:GREGORIAN
BEGIN:VEVENT
DTSTART:20200114T223000Z
DTEND:20200114T233000Z
X-MICROSOFT-CDO-ALLDAYEVENT:FALSE
SUMMARY:Pokemon Club
DESCRIPTION:Pokemon cards\, Pokemon crafts\, Pokemon everything! If you like Pokemon this is the club for you! Come hang out with friends\, eat snacks\, and play Pokemon!
X-ALT-DESC;FMTTYPE=text/html:<span style="color:rgb(0\, 0\, 0)\; font-family:arial\; font-size:14.6667px">Pokemon cards\, Pokemon crafts\, Pokemon everything! If you like Pokemon this is the club for you! Come hang out with friends\, eat snacks\, and play Pokemon!</span>
LOCATION:Matheson Memorial Library
UID:e.2059.11336
SEQUENCE:3
DTSTAMP:20260419T215512Z
URL:https://business.elkhornchamber.com/events/details/pokemon-club-11336
END:VEVENT

END:VCALENDAR
