BEGIN:VCALENDAR
VERSION:2.0
PRODID:-//ChamberMaster//Event Calendar 2.0//EN
METHOD:PUBLISH
X-PUBLISHED-TTL:P3D
REFRESH-INTERVAL:P3D
CALSCALE:GREGORIAN
BEGIN:VEVENT
DTSTART:20180212T160000Z
DTEND:20180212T170000Z
X-MICROSOFT-CDO-ALLDAYEVENT:FALSE
SUMMARY:Playgroup with Ms. Pattie
DESCRIPTION:Join Ms. Pattie to explore things that moosh\, oosh\, and goosh at a sensory themed playgroup. Children and caregivers will get to play with different materials and explore with all their senses. Target audience is children ages 0 to 5 and their caregivers\, but all ages and abilities are welcome.
X-ALT-DESC;FMTTYPE=text/html:<p><span style="font-family:arial\; font-size:14.6667px">Join Ms. Pattie to explore things that moosh\, oosh\, and goosh at a sensory themed playgroup. Children and caregivers will get to play with different materials and explore with all their senses.&nbsp\;</span><span style="font-family:arial\; font-size:14.6667px">Target audience is children ages 0 to 5 and their caregivers\, but all ages and abilities are welcome.</span></p>\n
LOCATION:Matheson Memorial Library
UID:e.2059.7466
SEQUENCE:3
DTSTAMP:20260422T150334Z
URL:https://business.elkhornchamber.com/events/details/playgroup-with-ms-pattie-02-12-2018-7466
END:VEVENT

END:VCALENDAR
