BEGIN:VCALENDAR
VERSION:2.0
PRODID:-//ChamberMaster//Event Calendar 2.0//EN
METHOD:PUBLISH
X-PUBLISHED-TTL:P3D
REFRESH-INTERVAL:P3D
CALSCALE:GREGORIAN
BEGIN:VEVENT
DTSTART:20160726T233000Z
DTEND:20160727T010000Z
X-MICROSOFT-CDO-ALLDAYEVENT:FALSE
SUMMARY:Pioneer Gardening with Marcia Carmichael
DESCRIPTION:Join Marcia Carmichael\, historian and author of Putting Down Roots: Gardening Insights from Wisconsin's Early Settlers for a fascinating look into what the early Wisconsin settlers grew in their gardens.\n\n\n\nThis presentation is part of our Adult Summer Reading Program. For attending this program\, you receive a free drawing for one of our numerous Grand Prizes!
X-ALT-DESC;FMTTYPE=text/html:Join Marcia Carmichael\, historian and author of&nbsp\;<em>Putting Down Roots: Gardening Insights from Wisconsin&#39\;s Early Settlers&nbsp\;</em>for a fascinating look into what the early Wisconsin settlers grew in their gardens.<br />\n<br />\n<em>This presentation is part of our Adult Summer Reading Program. For attending this program\, you receive a free drawing for one of our numerous Grand Prizes!</em>
LOCATION:Matheson Memorial Library - Community Center
UID:e.2059.3579
SEQUENCE:3
DTSTAMP:20260423T221108Z
URL:https://business.elkhornchamber.com/events/details/pioneer-gardening-with-marcia-carmichael-07-26-2016-3579
END:VEVENT

END:VCALENDAR
