BEGIN:VCALENDAR
VERSION:2.0
PRODID:-//ChamberMaster//Event Calendar 2.0//EN
METHOD:PUBLISH
X-PUBLISHED-TTL:P3D
REFRESH-INTERVAL:P3D
CALSCALE:GREGORIAN
BEGIN:VEVENT
DTSTART:20150418T150000Z
DTEND:20150418T210000Z
X-MICROSOFT-CDO-ALLDAYEVENT:FALSE
SUMMARY:Pet Wellness Expo
DESCRIPTION:Celebrating its 11th year\, the Pet Wellness Expo was created to provide resources and education on all aspects of pet care and wellness. This includes over 50 exhibitors in the area of training\, boarding\, pet sitting\, pet stores\, grooming\, veterinary clinics\, animal shelters\, rescues\, food and nutrition for our furry friends.\n\n\n\nPlease keep your furry friends at home. They will not be allowed to enter the expo.\n\n\n\nAdmission is $5 and benefits Lakeland Animal Shelter. Receive FREE admission with a donation of 2 wish list items for Lakeland Animal Shelter found on the Pet Wellness Expo website.
X-ALT-DESC;FMTTYPE=text/html:Celebrating its 11th year\, the Pet Wellness Expo was created to provide resources and education on all aspects of pet care and wellness. This includes over 50 exhibitors in the area of training\, boarding\, pet sitting\, pet stores\, grooming\, veterinary clinics\, animal shelters\, rescues\, food and nutrition for our furry friends.<br />\n<br />\nPlease keep your furry friends at home. They will not be allowed to enter the expo.<br />\n<br />\nAdmission is $5 and benefits Lakeland Animal Shelter. Receive FREE admission with a donation of 2 wish list items for Lakeland Animal Shelter found on the Pet Wellness Expo website.
LOCATION:Elkhorn High School 482 E. Geneva Street
UID:e.2059.1151
SEQUENCE:3
DTSTAMP:20260424T225001Z
URL:https://business.elkhornchamber.com/events/details/pet-wellness-expo-04-18-2015-1151
END:VEVENT

END:VCALENDAR
