BEGIN:VCALENDAR
VERSION:2.0
PRODID:-//ChamberMaster//Event Calendar 2.0//EN
METHOD:PUBLISH
X-PUBLISHED-TTL:P3D
REFRESH-INTERVAL:P3D
CALSCALE:GREGORIAN
BEGIN:VEVENT
DTSTART:20161015T130000Z
DTEND:20161015T160000Z
X-MICROSOFT-CDO-ALLDAYEVENT:FALSE
SUMMARY:Peoples Bank Oktoberfest 5k Run/2mi Walk
DESCRIPTION:Peoples Bank is hosting their Oktoberfest 5k Run / 2 mi Walk~Proceeds benefit The Elkhorn Fund\, Kettle Moraine Land Trust and Lakeland Animal Shelter. Raffles and Best Dressed Pet Contest. Registration will include a long sleeve shirt\, sports pack\, water bottle and a Free drink ticket to the Elkhorn Oktoberfest Celebration (21 and older) if registered prior to September 30th!    To Register and learn more visit www.peoplesbankwi.com/oktoberfestrunwalk
X-ALT-DESC;FMTTYPE=text/html:Peoples Bank is hosting their Oktoberfest 5k Run / 2 mi Walk~Proceeds benefit The Elkhorn Fund\, Kettle Moraine Land Trust and Lakeland Animal Shelter. Raffles and Best Dressed Pet Contest. Registration will include a long sleeve shirt\, sports pack\, water bottle and a Free drink ticket to the Elkhorn Oktoberfest Celebration (21 and older) if registered prior to September 30th!&nbsp\;&nbsp\;&nbsp\; To Register and learn more visit www.peoplesbankwi.com/oktoberfestrunwalk
LOCATION:Walworth County Fairgrounds Elkhorn\, Wi 53121
UID:e.2059.2093
SEQUENCE:3
DTSTAMP:20260423T192211Z
URL:https://business.elkhornchamber.com/events/details/peoples-bank-oktoberfest-5k-run-2mi-walk-10-15-2016-2093
END:VEVENT

END:VCALENDAR
