BEGIN:VCALENDAR
VERSION:2.0
PRODID:-//ChamberMaster//Event Calendar 2.0//EN
METHOD:PUBLISH
X-PUBLISHED-TTL:P3D
REFRESH-INTERVAL:P3D
CALSCALE:GREGORIAN
BEGIN:VEVENT
DTSTART:20150710T200000Z
DTEND:20150710T230000Z
X-MICROSOFT-CDO-ALLDAYEVENT:FALSE
SUMMARY:Peoples Bank Customer Appreciation
DESCRIPTION:Please join Peoples Bank for food and fun. It is their opportunity to thank you for your continued loyalty and support. Also\, the employees are hosting a silent auction to raise funds for the Lakeland Animal Shelter.  Please stop into the Elkhorn Office between July 1-10th to view the items.  The silent auction closes at 5pm on Friday\, July 10th.  The employees are also collecting items to donate to the animal shelter.\n\nClick here to edit...
X-ALT-DESC;FMTTYPE=text/html:<span>Please join Peoples Bank for food and fun. It is their opportunity to thank you for your continued loyalty and support. Also\, the employees are hosting a silent auction to raise funds for the Lakeland Animal Shelter.&nbsp\; Please stop into the Elkhorn Office between July 1-10th to view the items.&nbsp\; The silent auction closes at 5pm on Friday\, July 10th.&nbsp\; The employees are also collecting items to donate to the animal shelter</span>.\n\n<div style="color: gray\;">Click here to edit...</div>\n
LOCATION:Peoples Bank 837 N. Wisconsin St.\, Elkhorn
UID:e.2059.1623
SEQUENCE:3
DTSTAMP:20260424T180408Z
URL:https://business.elkhornchamber.com/events/details/peoples-bank-customer-appreciation-07-10-2015-1623
END:VEVENT

END:VCALENDAR
