BEGIN:VCALENDAR
VERSION:2.0
PRODID:-//ChamberMaster//Event Calendar 2.0//EN
METHOD:PUBLISH
X-PUBLISHED-TTL:P3D
REFRESH-INTERVAL:P3D
CALSCALE:GREGORIAN
BEGIN:VEVENT
DTSTART:20150907T140000Z
DTEND:20150907T170000Z
X-MICROSOFT-CDO-ALLDAYEVENT:FALSE
SUMMARY:Patriot Day Scramble
DESCRIPTION:2 person team\, 18 hole scramble (North and South Course)
X-ALT-DESC;FMTTYPE=text/html:2 person team\, 18 hole scramble (North and South Course)
LOCATION:Evergreen Country Club N6246 U.S. Hwy 12 Elkhorn WI\, 53121
UID:e.2059.1647
SEQUENCE:3
DTSTAMP:20260424T141607Z
URL:https://business.elkhornchamber.com/events/details/patriot-day-scramble-09-07-2015-1647
END:VEVENT

END:VCALENDAR
