BEGIN:VCALENDAR
VERSION:2.0
PRODID:-//ChamberMaster//Event Calendar 2.0//EN
METHOD:PUBLISH
X-PUBLISHED-TTL:P3D
REFRESH-INTERVAL:P3D
CALSCALE:GREGORIAN
BEGIN:VEVENT
DTSTART:20180810T230000Z
DTEND:20180811T020000Z
X-MICROSOFT-CDO-ALLDAYEVENT:FALSE
SUMMARY:Patio Jams at Evergreen Country Club
DESCRIPTION:Check out Patio Jams every Friday at the Evergreen Country Club starting with drink service at 4pm from Memorial Day Weekend through Labor Day Weekend 2018. LIVE music on the patio from 6pm-9pm.\n\nChill out after work & start the weekend off right\, relaxing on the Patio @ Evergreen overlooking the course as the sun sets...perfect!\n\nRelax and enjoy a cocktail... then stay for the Lakes Areas Best Fish Fry\, if you wish.\n\nEntertainment Schedule:\n\nJune 15 Kevin Kennedy\n\nJune 22 Joey LaVie\n\nJune 29 Gene Gruber\n\nJuly 6 Joey LaVie\n\nJuly 13 Jake Warne\n\nJuly 20 Bobby Way Solo\n\nJuly 27 Kevin Kennedy\n\nAugust 3 Kevin Kennedy\n\nAugust 10 Marr'Lo Prada\n\nAugust 17 Gene Gruber\n\nAugust 24 Kevin Kennedy\n\nAugust 31 Dave Ciccanelli
X-ALT-DESC;FMTTYPE=text/html:<p style="color: rgb(0\, 0\, 0)\; font-family: Arial\; font-size: medium\;">Check out Patio Jams every Friday at the Evergreen Country Club starting with drink service at 4pm from Memorial Day Weekend through&nbsp\;Labor Day Weekend 2018.&nbsp\;LIVE music on the patio from 6pm-9pm.</p>\n\n<p style="color: rgb(0\, 0\, 0)\; font-family: Arial\; font-size: medium\;">Chill out after work &amp\; start the weekend off right\, relaxing on the Patio @ Evergreen overlooking the course as the sun sets...perfect!<br />\nRelax and enjoy a cocktail... then stay for the Lakes Areas Best Fish Fry\, if you wish.</p>\n\n<p style="color: rgb(0\, 0\, 0)\; font-family: Arial\; font-size: medium\;">Entertainment Schedule:<br />\nJune 15 Kevin Kennedy<br />\nJune 22 Joey LaVie<br />\nJune 29 Gene Gruber<br />\nJuly 6 Joey LaVie<br />\nJuly 13 Jake Warne<br />\nJuly 20 Bobby Way Solo<br />\nJuly 27 Kevin Kennedy<br />\nAugust 3 Kevin Kennedy<br />\nAugust 10 Marr&rsquo\;Lo Prada<br />\nAugust 17 Gene Gruber<br />\nAugust 24 Kevin Kennedy<br />\nAugust 31 Dave Ciccanelli</p>\n
LOCATION:Evergreen Country Club\, N6246 US Hwy 12 Elkhorn\, WI 53121
UID:e.2059.9271
SEQUENCE:3
DTSTAMP:20260422T040421Z
URL:https://business.elkhornchamber.com/events/details/patio-jams-at-evergreen-country-club-08-10-2018-9271
END:VEVENT

END:VCALENDAR
