BEGIN:VCALENDAR
VERSION:2.0
PRODID:-//ChamberMaster//Event Calendar 2.0//EN
METHOD:PUBLISH
X-PUBLISHED-TTL:P3D
REFRESH-INTERVAL:P3D
CALSCALE:GREGORIAN
BEGIN:VEVENT
DTSTART:20161119T141500Z
DTEND:20161119T201500Z
X-MICROSOFT-CDO-ALLDAYEVENT:FALSE
SUMMARY:Passport Event
DESCRIPTION:If you are planning to travel abroad\, you'll need a passport and we are here to help! By appointment Call 262-723-2679.
X-ALT-DESC;FMTTYPE=text/html:If you are planning to travel abroad\, you&#39\;ll need a passport and we are here to help! By appointment Call 262-723-2679.
LOCATION:Elkhorn Post Office 102 E. Walworth Street Elkhorn
UID:e.2059.4578
SEQUENCE:3
DTSTAMP:20260423T153135Z
URL:https://business.elkhornchamber.com/events/details/passport-event-4578
END:VEVENT

END:VCALENDAR
