BEGIN:VCALENDAR
VERSION:2.0
PRODID:-//ChamberMaster//Event Calendar 2.0//EN
METHOD:PUBLISH
X-PUBLISHED-TTL:P3D
REFRESH-INTERVAL:P3D
CALSCALE:GREGORIAN
BEGIN:VEVENT
DTSTART:20190608T223000Z
DTEND:20190609T010000Z
X-MICROSOFT-CDO-ALLDAYEVENT:FALSE
SUMMARY:Party with the Perennials
DESCRIPTION:Kettle Moraine Land Trust (KMLT) is having a party and everyone's invited: Saturday\, June 8\, from 5:30 to 8:00 p.m. at Northwind Perennial Farm\, 7047 Hospital Road\, Burlington\, Wisconsin 53105. Party with the Perennials will feature live music\, food and beverage\, and tours of Northwind's display gardens. It's a fund-raiser for KMLT\, with a silent auction and raffle to add to the fun\, with gift items\, services\, and experiences that might be hard to come by otherwise. Roy Diblik\, one of the owners of Northwind Perennial Farm and a well-known speaker on the subject of perennial plants and garden design\, will lead a tour of the display gardens\, answering questions about gardening. Everyone attending will be entitled to a 10-percent discount on all purchases from Northwind made during the party. Blues musician Glenn Davis will play live\, serving up the party's musical entertainment while Trampers Oak Fire Oven brings their food truck to serve appetizers and gourmet pizzas. Advance tickets are priced at $40 per person. Proceeds from the event will support KMLT programs that protect our lakes\, natural areas\, working lands\, and soil and water quality for the benefit of all residents and visitors to the area. Come to our garden party tickets will soon be available online at www.kmlandtrust.org.
X-ALT-DESC;FMTTYPE=text/html:Kettle Moraine Land Trust (KMLT) is having a party and everyone&rsquo\;s invited: Saturday\, June 8\, from 5:30 to 8:00 p.m. at Northwind Perennial Farm\, 7047 Hospital Road\, Burlington\, Wisconsin 53105. Party with the Perennials will feature live music\, food and beverage\, and tours of Northwind&rsquo\;s display gardens. It&rsquo\;s a fund-raiser for KMLT\, with a silent auction and raffle to add to the fun\, with gift items\, services\, and experiences that might be hard to come by otherwise. Roy Diblik\, one of the owners of Northwind Perennial Farm and a well-known speaker on the subject of perennial plants and garden design\, will lead a tour of the display gardens\, answering questions about gardening. Everyone attending will be entitled to a 10-percent discount on all purchases from Northwind made during the party. Blues musician Glenn Davis will play live\, serving up the party&rsquo\;s musical entertainment while Trampers Oak Fire Oven brings their food truck to serve appetizers and gourmet pizzas. Advance tickets are priced at $40 per person. Proceeds from the event will support KMLT programs that protect our lakes\, natural areas\, working lands\, and soil and water quality for the benefit of all residents and visitors to the area. Come to our garden party&mdash\;tickets will soon be available online at www.kmlandtrust.org.
LOCATION:Northwind Perennial Farm 7047 Hospital Road Burlington\, WI 53105
UID:e.2059.10630
SEQUENCE:3
DTSTAMP:20260421T033029Z
URL:https://business.elkhornchamber.com/events/details/party-with-the-perennials-10630
END:VEVENT

END:VCALENDAR
