BEGIN:VCALENDAR
VERSION:2.0
PRODID:-//ChamberMaster//Event Calendar 2.0//EN
METHOD:PUBLISH
X-PUBLISHED-TTL:P3D
REFRESH-INTERVAL:P3D
CALSCALE:GREGORIAN
BEGIN:VEVENT
DTSTART;VALUE=DATE:20180706
DTEND;VALUE=DATE:20180709
TRANSP:TRANSPARENT
X-MICROSOFT-CDO-ALLDAYEVENT:TRUE
SUMMARY:Partners for Progress Horse Show
DESCRIPTION:Partners for Progress Horse Show hosted at the Walworth County Fairgrounds.
X-ALT-DESC;FMTTYPE=text/html:Partners for Progress Horse Show hosted at the Walworth County Fairgrounds.&nbsp\;
LOCATION:Walworth County Fairgrounds 411 E. Court Street Elkhorn\, WI
UID:e.2059.8798
SEQUENCE:3
DTSTAMP:20260422T055200Z
URL:https://business.elkhornchamber.com/events/details/partners-for-progress-horse-show-8798
END:VEVENT

END:VCALENDAR
