BEGIN:VCALENDAR
VERSION:2.0
PRODID:-//ChamberMaster//Event Calendar 2.0//EN
METHOD:PUBLISH
X-PUBLISHED-TTL:P3D
REFRESH-INTERVAL:P3D
CALSCALE:GREGORIAN
BEGIN:VEVENT
DTSTART:20181027T140000Z
DTEND:20181027T180000Z
X-MICROSOFT-CDO-ALLDAYEVENT:FALSE
SUMMARY:Out of the Darkness Walk
DESCRIPTION:Walk to raise awareness for suicide prevention and mental health issues. Registration begins at 9am\, opening ceremony at 10am\, walk to follow. Please visit website at 'afsp.org/walworth' to register and get more info.
X-ALT-DESC;FMTTYPE=text/html:Walk to raise awareness for suicide prevention and mental health issues. Registration begins at 9am\, opening ceremony at 10am\, walk to follow. Please visit website at &#39\;afsp.org/walworth&#39\; to register and get more info.
LOCATION:Walworth County Fairgrounds\, Elkhorn WI (Activity Center )
UID:e.2059.9081
SEQUENCE:3
DTSTAMP:20260422T002237Z
URL:https://business.elkhornchamber.com/events/details/out-of-the-darkness-walk-9081
END:VEVENT

END:VCALENDAR
