BEGIN:VCALENDAR
VERSION:2.0
PRODID:-//ChamberMaster//Event Calendar 2.0//EN
METHOD:PUBLISH
X-PUBLISHED-TTL:P3D
REFRESH-INTERVAL:P3D
CALSCALE:GREGORIAN
BEGIN:VEVENT
DTSTART:20161113T010000Z
DTEND:20161113T030000Z
X-MICROSOFT-CDO-ALLDAYEVENT:FALSE
SUMMARY:Open Mic Night
DESCRIPTION:Open Mic Night at the UU Church of the Lakes\, 319 N. Broad St.\, Elkhorn WI welcomes all acoustic musicians and groups. Everyone is welcome to perform or listen. It will be held from 7-9 p.m. There is no charge for this event.
X-ALT-DESC;FMTTYPE=text/html:Open Mic Night at the UU Church of the Lakes\, 319 N. Broad St.\, Elkhorn WI welcomes all acoustic musicians and groups. Everyone is welcome to perform or listen. It will be held from 7-9 p.m. There is no charge for this event.
LOCATION:UU Church of the Lakes 319 N. Broad St. Elkhorn\, WI
UID:e.2059.4558
SEQUENCE:3
DTSTAMP:20260423T153100Z
URL:https://business.elkhornchamber.com/events/details/open-mic-night-4558
END:VEVENT

END:VCALENDAR
