BEGIN:VCALENDAR
VERSION:2.0
PRODID:-//ChamberMaster//Event Calendar 2.0//EN
METHOD:PUBLISH
X-PUBLISHED-TTL:P3D
REFRESH-INTERVAL:P3D
CALSCALE:GREGORIAN
BEGIN:VEVENT
DTSTART:20171205T220000Z
DTEND:20171206T000000Z
X-MICROSOFT-CDO-ALLDAYEVENT:FALSE
SUMMARY:Open House hosted by Thrivent Financial
DESCRIPTION:Action Team ~ Business After Hours\n\nJoin us for snacks\, refreshments\, and networking! Plese bring a Winter item (hats\, mittens\, scarves) that will be donated to the Treehouse.
X-ALT-DESC;FMTTYPE=text/html:Action Team ~ Business After Hours<br />\nJoin us for snacks\, refreshments\, and networking! Plese bring a Winter item (hats\, mittens\, scarves) that will be donated to the Treehouse.
LOCATION:Thrivent Financial 1421 Racine Street suite G Delavan\, WI 53115
UID:e.2059.7307
SEQUENCE:3
DTSTAMP:20260422T182634Z
URL:https://business.elkhornchamber.com/events/details/open-house-hosted-by-thrivent-financial-7307
END:VEVENT

END:VCALENDAR
