BEGIN:VCALENDAR
VERSION:2.0
PRODID:-//ChamberMaster//Event Calendar 2.0//EN
METHOD:PUBLISH
X-PUBLISHED-TTL:P3D
REFRESH-INTERVAL:P3D
CALSCALE:GREGORIAN
BEGIN:VEVENT
DTSTART:20140918T230000Z
DTEND:20140919T010000Z
X-MICROSOFT-CDO-ALLDAYEVENT:FALSE
SUMMARY:Open Arms Free Clinic Pig Roast Fundraiser
DESCRIPTION:Support Open Arms Free Clinic and enjoy a pig roast with potato salad\, cole slaw\, baked beans\, rolls and dessert at Champs Bar & Grill in Lake Geneva. There will also be live entertainment.
X-ALT-DESC;FMTTYPE=text/html:Support Open Arms Free Clinic and enjoy a pig roast with potato salad\, cole slaw\, baked beans\, rolls and dessert at Champs Bar &amp\; Grill in Lake Geneva. There will also be live entertainment.
LOCATION:Champs Bar & Grill 747 W. Main St.\, Lake Geneva
UID:e.2059.286
SEQUENCE:3
DTSTAMP:20260425T122420Z
URL:https://business.elkhornchamber.com/events/details/open-arms-free-clinic-pig-roast-fundraiser-09-18-2014-286
END:VEVENT

END:VCALENDAR
