BEGIN:VCALENDAR
VERSION:2.0
PRODID:-//ChamberMaster//Event Calendar 2.0//EN
METHOD:PUBLISH
X-PUBLISHED-TTL:P3D
REFRESH-INTERVAL:P3D
CALSCALE:GREGORIAN
BEGIN:VEVENT
DTSTART;VALUE=DATE:20160607
DTEND;VALUE=DATE:20160608
TRANSP:TRANSPARENT
X-MICROSOFT-CDO-ALLDAYEVENT:TRUE
SUMMARY:Open Arms Free Clinic Golf Event
DESCRIPTION:More details to come! Save the Date!\n\nGet out your golf clubs and tell your friends\, Open Arms Free Clinic\,Inc. is getting ready for another beautiful day at Hawk's View! We sold out last year and are preparing for a big crowd again this year. We look forward to celebrating with you so stay tuned\, golf & dinner reservations will be ready soon...
X-ALT-DESC;FMTTYPE=text/html:More details to come! Save the Date!<br />\nGet out your golf clubs and tell your friends\, Open Arms Free Clinic\,Inc. is getting ready for another beautiful day at Hawk&#39\;s View! We sold out last year and are preparing for a big crowd again this year. We look forward to celebrating with you so stay tuned\, golf &amp\; dinner reservations will be ready soon...
LOCATION:Hawk's View Golf Course
UID:e.2059.1929
SEQUENCE:3
DTSTAMP:20260423T234646Z
URL:https://business.elkhornchamber.com/events/details/open-arms-free-clinic-golf-event-06-07-2016-1929
END:VEVENT

END:VCALENDAR
