BEGIN:VCALENDAR
VERSION:2.0
PRODID:-//ChamberMaster//Event Calendar 2.0//EN
METHOD:PUBLISH
X-PUBLISHED-TTL:P3D
REFRESH-INTERVAL:P3D
CALSCALE:GREGORIAN
BEGIN:VEVENT
DTSTART:20151205T000000Z
DTEND:20151205T040000Z
X-MICROSOFT-CDO-ALLDAYEVENT:FALSE
SUMMARY:Open Arms Free Clinic Birthday Celebration
DESCRIPTION:Celebrate the Third Birthday of the only free clinic for residents of Walworth County. Raffle and Paddle Raise fun giving.
X-ALT-DESC;FMTTYPE=text/html:Celebrate the Third Birthday of the only free clinic for residents of Walworth County. Raffle and Paddle Raise fun giving.
LOCATION:The Abbey Resort 269 Fontana Blvd Fontana\, WI 53125
UID:e.2059.1815
SEQUENCE:3
DTSTAMP:20260424T094725Z
URL:https://business.elkhornchamber.com/events/details/open-arms-free-clinic-birthday-celebration-12-04-2015-1815
END:VEVENT

END:VCALENDAR
