BEGIN:VCALENDAR
VERSION:2.0
PRODID:-//ChamberMaster//Event Calendar 2.0//EN
METHOD:PUBLISH
X-PUBLISHED-TTL:P3D
REFRESH-INTERVAL:P3D
CALSCALE:GREGORIAN
BEGIN:VEVENT
DTSTART:20140603T160000Z
DTEND:20140604T010000Z
X-MICROSOFT-CDO-ALLDAYEVENT:FALSE
SUMMARY:Open Arms Clinic Annual Golf Outing
DESCRIPTION:Join us to golf the only 5-star rated golf course in Lake Geneva\, which was also voted Walworth County's Best Course in 2012! Schedule: 11:00am - check-in & light lunch\; Noon - Shotgun start to 18 holes of golf\; 5:00pm Return to Club House & appetizers\; 6:00pm - Two-meat buffet dinner and silent auction. Prizes for best foursome score!
X-ALT-DESC;FMTTYPE=text/html:Join us to golf the only 5-star rated golf course in Lake Geneva\, which was also voted Walworth County&#39\;s Best Course in 2012! Schedule: 11:00am - check-in &amp\; light lunch\; Noon - Shotgun start to 18 holes of golf\; 5:00pm Return to Club House &amp\; appetizers\; 6:00pm - Two-meat buffet dinner and silent auction. Prizes for best foursome score!
LOCATION:Hawks View Golf Club Lake Geneva
UID:e.2059.39
SEQUENCE:3
DTSTAMP:20260425T163538Z
URL:https://business.elkhornchamber.com/events/details/open-arms-clinic-annual-golf-outing-06-03-2014-39
END:VEVENT

END:VCALENDAR
