BEGIN:VCALENDAR
VERSION:2.0
PRODID:-//ChamberMaster//Event Calendar 2.0//EN
METHOD:PUBLISH
X-PUBLISHED-TTL:P3D
REFRESH-INTERVAL:P3D
CALSCALE:GREGORIAN
BEGIN:VEVENT
DTSTART:20170916T210000Z
DTEND:20170917T000000Z
X-MICROSOFT-CDO-ALLDAYEVENT:FALSE
SUMMARY:Old World Wisconsin Oktoberfest
DESCRIPTION:Join us for a traditional Oktoberfest celebration to support Old World Wisconsin. Food. Beer. Live Music. Raffle\n\nThere will be horse-drawn wagon rides as well as a historic brewing demo.
X-ALT-DESC;FMTTYPE=text/html:Join us for a traditional Oktoberfest celebration to support Old World Wisconsin. Food. Beer. Live Music. Raffle<br />\nThere will be horse-drawn wagon rides as well as a historic brewing demo.<br />\n<br />\n&nbsp\;
LOCATION:Held in the German Farms at Old World Wisconsin W372 S9727 Highway 67 Eagle\, WI 53119
UID:e.2059.6075
SEQUENCE:3
DTSTAMP:20260422T215106Z
URL:https://business.elkhornchamber.com/events/details/old-world-wisconsin-oktoberfest-6075
END:VEVENT

END:VCALENDAR
