BEGIN:VCALENDAR
VERSION:2.0
PRODID:-//ChamberMaster//Event Calendar 2.0//EN
METHOD:PUBLISH
X-PUBLISHED-TTL:P3D
REFRESH-INTERVAL:P3D
CALSCALE:GREGORIAN
BEGIN:VEVENT
DTSTART;VALUE=DATE:20181010
DTEND;VALUE=DATE:20181011
TRANSP:TRANSPARENT
X-MICROSOFT-CDO-ALLDAYEVENT:TRUE
SUMMARY:OLD WORLD FOUNDATION PHOTO CONTEST
DESCRIPTION:OLD WORLD FOUNDATION PHOTO CONTEST\n\nEntries due by: Oct. 10\, 2018\n\nJudging on: Oct. 15\, 2018\n\nPhoto Contest Reception: Oct. 18\, 2018\n\n$5/entry (adults)  |  $3/entry youth (through age 18)\n\nCash Prizes awarded in 6 categories\, plus Best of Show and 2nd Place Overall. All photos must be taken on the grounds of Old World Wisconsin between Sept. 29\, 2017 and Oct. 10\, 2018.
X-ALT-DESC;FMTTYPE=text/html:OLD WORLD FOUNDATION PHOTO CONTEST<br />\nEntries due by: Oct. 10\, 2018<br />\nJudging on: Oct. 15\, 2018<br />\nPhoto Contest Reception: Oct. 18\, 2018<br />\n$5/entry (adults) &nbsp\;|&nbsp\; $3/entry youth (through age 18)<br />\nCash Prizes awarded in 6 categories\, plus Best of Show and 2<sup>nd</sup> Place Overall. All photos must be taken on the grounds of Old World Wisconsin between Sept. 29\, 2017 and Oct. 10\, 2018.<br />\n&nbsp\;
LOCATION:229 East Main Street Eagle\, Wisconsin 53119
UID:e.2059.8650
SEQUENCE:3
DTSTAMP:20260422T021028Z
URL:https://business.elkhornchamber.com/events/details/old-world-foundation-photo-contest-8650
END:VEVENT

END:VCALENDAR
