BEGIN:VCALENDAR
VERSION:2.0
PRODID:-//ChamberMaster//Event Calendar 2.0//EN
METHOD:PUBLISH
X-PUBLISHED-TTL:P3D
REFRESH-INTERVAL:P3D
CALSCALE:GREGORIAN
BEGIN:VEVENT
DTSTART:20171209T163000Z
DTEND:20171209T173000Z
X-MICROSOFT-CDO-ALLDAYEVENT:FALSE
SUMMARY:Old Time Radio
DESCRIPTION:When: Dec 9\n\nFrom: 10:30 am - 11:30 am\n\n\nWGTD of Kenosha\, part of Wisconsin Public Radio\, will be broadcasting live from the Wisconsin Room at Lake Lawn Resort.\n\nThe shows mimic the old time radio shows of the 20's\, 30's and 40's   complete with actors and sound effects.  The show is performed and broadcast in real time!\n\nThere will be 3 shows: \n\nOctober 14   Sorry\, Wrong Number\, Baby Jane! \n\nNovember 18   Play It Again\, Sam!\n\nDecember 9   The New Andy Williams Holiday Show!\n\nA breakfast and show package is available for $20.  It includes a breakfast\n\nbuffet in the Frontier Restaurant and admission to the show.  Admission to show only is $10.\n\nThere will be 3 Old Time Radio Shows:  October 14\, November 18\, and December 9.\n\nReservations are required because of limited seating.  Please call the Frontier Restaurant for show-only tickets or the breakfast/show package.  \n\n262.725.9155
X-ALT-DESC;FMTTYPE=text/html:<div class="event-meta"><strong>When:</strong> Dec 9<br />\n<strong>From:</strong> 10:30 am - 11:30 am</div>\n\n<div class="article-body">\n<p><span style="font-size: 14pt\; color: #000000\;"><strong>WGTD of Kenosha\, part of Wisconsin Public Radio\, will be broadcasting live from the Wisconsin Room at&nbsp\;Lake Lawn Resort.</strong></span></p>\n\n<p><span style="font-size: 14pt\; color: #000000\;"><strong>The shows mimic the old time radio shows of the 20&rsquo\;s\, 30&rsquo\;s and 40&rsquo\;s &ndash\; complete with actors and sound effects. &nbsp\;The show is performed and broadcast in real time!</strong></span></p>\n\n<p><span style="font-size: 14pt\; color: #000000\;"><strong>There will be 3 shows: </strong></span></p>\n\n<p><span style="font-size: 14pt\; color: #000000\;"><strong>October 14 &ndash\; Sorry\, Wrong Number\, Baby Jane!&nbsp\;</strong></span></p>\n\n<p><span style="font-size: 14pt\; color: #000000\;"><strong>November 18 &ndash\; Play It Again\, Sam!</strong></span></p>\n\n<p><span style="font-size: 14pt\; color: #000000\;"><strong>December 9 &ndash\; The New Andy Williams Holiday Show!</strong></span></p>\n\n<p><span style="font-size: 14pt\; color: #000000\;"><strong>A breakfast and show package is available for $20. &nbsp\;It includes a breakfast</strong></span><br />\n<span style="font-size: 14pt\; color: #000000\;"><strong>buffet in the Frontier Restaurant and admission to the show. &nbsp\;Admission to show only is $10.</strong></span></p>\n\n<p><span style="font-size: 14pt\; color: #000000\;">There will be 3 Old Time Radio Shows:&nbsp\; <a href="https://www.lakelawnresort.com/events/old-time-radio-show-sorry-wrong-number-baby-jane-halloween-show/">October 14</a>\, November 18\, and <a href="https://www.lakelawnresort.com/events/old-time-radio-show-new-andy-williams-holiday-show/">December 9</a>.</span></p>\n\n<p><span style="font-size: 14pt\; color: #000000\;">Reservations are required because of limited seating. &nbsp\;Please call the&nbsp\;Frontier Restaurant for show-only tickets or the breakfast/show&nbsp\;package. &nbsp\;</span></p>\n\n<p><span style="font-size: 14pt\; color: #000000\;">262.725.9155</span></p>\n</div>\n
LOCATION:Location: Lake Lawn Resort 2400 E. Geneva St. Delavan\, 53115
UID:e.2059.7304
SEQUENCE:3
DTSTAMP:20260422T182455Z
URL:https://business.elkhornchamber.com/events/details/old-time-radio-7304
END:VEVENT

END:VCALENDAR
