BEGIN:VCALENDAR
VERSION:2.0
PRODID:-//ChamberMaster//Event Calendar 2.0//EN
METHOD:PUBLISH
X-PUBLISHED-TTL:P3D
REFRESH-INTERVAL:P3D
CALSCALE:GREGORIAN
BEGIN:VEVENT
DTSTART:20180420T233000Z
DTEND:20180421T033000Z
X-MICROSOFT-CDO-ALLDAYEVENT:FALSE
SUMMARY:Old Fashioned Wisconsin Supper Club Dining Experience
DESCRIPTION:Old Fashioned Wisconsin Supper Club Dining Experience\n\n\nWhen: Apr 20\n\nFrom: 6:30 pm - 10:30 pm\n\nClick HERE to purchase your reserved seat and to choose your meal.\n\nJoin us for a unique evening as we pay tribute to the Old Fashioned Wisconsin Supper Club.\n\nSupper club restaurants were the hot dining trend in the mid twentieth century. They provided a place for people to spend their evenings enjoying cocktails\, home-cooked\, high-quality food and entertainment. Documentary filmmaker\, Holly DeRuyter\, hosts Lake Lawn Resort's Supper Club experience.  She presents her film\, "Old Fashioned: The Story of the Wisconsin Supper Club"\, which takes you into this unique Wisconsin institution. Lake Lawn Resort will present the ambience and flavors of a true Wisconsin Supper Club\, beginning with the signature Old Fashioned Cocktail\, traditional relish trays\, entrees\, and dessert. \n\nHolly will be accompanied by Mary Bergin\, author of Wisconsin Supper Club Cookbook.\n\nClick here to learn more about Wisconsin Supper Club history.\n\nMake a weekend out of it with our Couples Weekend Away Package\, which includes two night accommodations\, $100 Resort Credit per package\, Old Fashioned Supper Club dinner on Friday\, April 20 (advance menu selection required)\, and "Piano Man Productions: A Tribute to Billy Joel and Elton John" on Saturday\, April 21.  Click here to book your weekend package.\n\nMENU:\n\n(Entr e selection must be chosen when purchasing ticket on Eventbrite)\n\nRelish Tray\n\nA Lazy Susan Relish Tray with pickled cucumbers\, kidney bean salad\, sliced beets\, olives\, celery and carrot sticks\, green onions\, and cheddar cheese spread with an assortment of crackers and bread sticks.\n\nSalad\n\nEnjoy a Green Salad of Iceburg Lettuce garnished with fresh vegetables and your choice of Thousand Island\, Green Goddess or French.\n\nSavory fresh-baked stone-ground wheat bread with Wisconsin butter.\n\nEntree\n\nChoose one of the classic entrees\, served with fresh California vegetable medley:\n\n English cut prime rib au jus with twice-baked potato\n\n Chicken cordon bleu with stone-ground mustard sauce and cheddar mashed potatoes\n\n Broiled lemon caper whitefish with parsley potatoes\n\nDessert\n\nCheesecake with graham cracker crust and Wisconsin cherry sauce.\n\nEvent will take place in our Lake Lawn Room.  Doors & Cash Bar Open 6:30pm.  Show begins 7:00pm.  Dinner is served at 7:30 pm.  Movie begins at 8:30 pm.  Q&A to follow at 9:30 pm.\n\n$65.00 per person includes one Old Fashioned Cocktail\, dinner\, movie\, presentation\, tax\, and gratuity.
X-ALT-DESC;FMTTYPE=text/html:<div class="heading-group text-left">\n<h1 class="heading-group-header ">Old Fashioned Wisconsin Supper Club Dining Experience</h1>\n</div>\n\n<div class="event-meta"><strong>When:</strong> Apr 20<br />\n<strong>From:</strong> 6:30 pm - 10:30 pm</div>\n\n<h4><a href="https://www.eventbrite.com/e/old-fashioned-wisconsin-supper-club-dining-experience-at-lake-lawn-resort-tickets-43716755994?aff=ehomecard"><span style="font-size: 14pt\; color: #000000\;"><strong>Click HERE to purchase your reserved seat and to choose your meal.</strong></span></a></h4>\n\n<p><span style="color: #000000\; font-size: 14pt\;">Join us for a unique evening as we pay tribute to the Old Fashioned Wisconsin Supper Club.</span></p>\n\n<p><span style="color: #000000\; font-size: 14pt\;">Supper club restaurants were the hot dining trend in the mid twentieth century. They provided a place for people to spend their evenings enjoying cocktails\, home-cooked\, high-quality food and entertainment. Documentary filmmaker\, Holly DeRuyter\, hosts Lake Lawn Resort&rsquo\;s Supper Club experience. &nbsp\;She presents her film\, &ldquo\;Old Fashioned: The Story of the Wisconsin Supper Club&rdquo\;\, which takes you into this unique Wisconsin institution. Lake Lawn Resort will present the ambience and flavors of a true Wisconsin Supper Club\, beginning with the signature Old Fashioned Cocktail\, traditional relish trays\, entrees\, and dessert.&nbsp\;</span></p>\n\n<p><span style="color: #000000\; font-size: 14pt\;">Holly will be accompanied by Mary Bergin\, author of<strong> <a href="https://www.facebook.com/supperclubcookbook/" style="color: #000000\;">Wisconsin Supper Club Cookbook</a>.</strong></span></p>\n\n<p><span style="color: #000000\; font-size: 14pt\;"><a href="http://www.oldfashionedthemovie.com/" style="color: #000000\;"><strong>Click here</strong> to learn more&nbsp\;about Wisconsin Supper Club history.</a></span></p>\n\n<p><span style="font-size: 14pt\; color: #000000\;">Make a weekend out of it with our <em>Couples Weekend Away Package\, </em>which</span><span style="font-size: 14pt\; color: #000000\;">&nbsp\;includes two night accommodations\, $100 Resort Credit per package\, Old Fashioned Supper Club dinner on Friday\, April 20&nbsp\;<em>(advance menu selection required)</em>\, and &ldquo\;Piano Man Productions: A Tribute to Billy Joel and Elton John&rdquo\; on Saturday\, April 21.&nbsp\; <strong><a href="https://www.lakelawnresort.com/packages/couples-weekend-away/">Click here to book your weekend package</a>.</strong></span></p>\n\n<p style="text-align: left\;"><span style="color: #000000\; font-size: 14pt\;"><strong>MENU:</strong></span><br />\n<span style="color: #000000\; font-size: 14pt\;">(Entr&eacute\;e selection&nbsp\;<strong>must</strong> be chosen when purchasing ticket on Eventbrite)</span></p>\n\n<p style="text-align: left\;"><span style="color: #000000\; font-size: 14pt\;"><strong>Relish Tray</strong></span><br />\n<span style="color: #000000\; font-size: 14pt\;">A Lazy Susan Relish Tray with pickled cucumbers\, kidney bean salad\, sliced beets\, olives\, celery and carrot sticks\, green onions\, and cheddar cheese spread with an assortment of crackers and bread sticks.</span></p>\n\n<p style="text-align: left\;"><span style="color: #000000\; font-size: 14pt\;"><strong>Salad</strong></span><br />\n<span style="color: #000000\; font-size: 14pt\;">Enjoy a Green Salad of Iceburg Lettuce garnished with fresh vegetables and your choice of Thousand Island\, Green Goddess or French.</span></p>\n\n<p style="text-align: left\;"><span style="font-size: 14pt\;"><strong><span style="color: #000000\;">Savory fresh-baked stone-ground wheat bread with Wisconsin butter.</span></strong></span></p>\n\n<p style="text-align: left\;"><span style="color: #000000\; font-size: 14pt\;"><strong>Entree</strong></span><br />\n<span style="color: #000000\; font-size: 14pt\;">Choose one of the classic entrees\, served with fresh California vegetable medley:</span><br />\n<span style="color: #000000\; font-size: 14pt\;">&bull\;English cut prime rib au jus with twice-baked potato</span><br />\n<span style="color: #000000\; font-size: 14pt\;">&bull\;Chicken cordon bleu with stone-ground mustard sauce and cheddar mashed potatoes</span><br />\n<span style="color: #000000\; font-size: 14pt\;">&bull\;Broiled lemon caper whitefish with parsley potatoes</span></p>\n\n<p style="text-align: left\;"><span style="color: #000000\; font-size: 14pt\;"><strong>Dessert</strong></span><br />\n<span style="color: #000000\; font-size: 14pt\;">Cheesecake with graham cracker crust and Wisconsin cherry sauce.</span></p>\n\n<p><span style="color: #000000\; font-size: 14pt\;">Event will take place in our Lake Lawn Room. &nbsp\;Doors &amp\; Cash Bar Open 6:30pm. &nbsp\;Show begins 7:00pm. &nbsp\;Dinner is served at 7:30 pm. &nbsp\;Movie begins at 8:30 pm. &nbsp\;Q&amp\;A to follow at 9:30 pm.</span></p>\n\n<p><span style="color: #000000\; font-size: 14pt\;">$65.00 per person includes one Old Fashioned Cocktail\, dinner\, movie\, presentation\, tax\, and gratuity.</span></p>\n
LOCATION:Location: Lake Lawn Resort 2400 E. Geneva St. Delavan\, 53115
UID:e.2059.8779
SEQUENCE:3
DTSTAMP:20260422T114945Z
URL:https://business.elkhornchamber.com/events/details/old-fashioned-wisconsin-supper-club-dining-experience-8779
END:VEVENT

END:VCALENDAR
