BEGIN:VCALENDAR
VERSION:2.0
PRODID:-//ChamberMaster//Event Calendar 2.0//EN
METHOD:PUBLISH
X-PUBLISHED-TTL:P3D
REFRESH-INTERVAL:P3D
CALSCALE:GREGORIAN
BEGIN:VEVENT
DTSTART:20170930T230000Z
DTEND:20171001T030000Z
X-MICROSOFT-CDO-ALLDAYEVENT:FALSE
SUMMARY:Oktoberfest at Lake Lawn Resort
DESCRIPTION:Oktoberfest at Lake Lawn Resort\n\n\nWhen: Sep 30\n\nFrom: 6:00 pm - 10:00 pm\n\nJoin us for an authentic Oktoberfest celebration!\n\n \n\nOur festivities will include German\, Seasonal\, and Craft beers\, a variety of Bavarian Festival foods\, and live entertainment by Twin Lakes Trio Polka Band.  The Twin Lakes Trio started in 1994 as an FFA talent contest polka band\, and after 30 years is still going strong!\n\nBring the entire family to enjoy the tastes and sounds of Germany under a lighted tent at the lakefront.  \n\n \n\nBavarian Festival Foods Menu\n\nWarm Bavarian Pretzel with Beer Mustard   $5\n\nGrilled Bratwurst with Caraway Sauerkraut on Pretzel Bun   $7\n\nBeef Knockwurst on Pretzel Bun   $6\n\nPint of Beer Cheese Soup with Soft Pretzel Croutons   $5\n\nRoasted Pork Shoulder Sandwich with Lager Sauce on Pretzel Roll   $7\n\nWarm German Potato Salad   $3\n\nBavarian Platter   $13\n\n          Includes a cup of Beer Cheese Soup\, Warm Potato Salad\, Braised Red Cabbage with Apples and Strawberries\, \n\nBratwurst with Caraway Sauerkraut and choice of Strudel.\n\nDESSERTS:\n\nKirschstrudel (Cherry Strudel)   $4\n\nApfelstrudel (Apple Strudel)   $4\n\nSchwarzwalder Kirschtorte (Black Forest Cake)   $7\n\n \n\n**Admission of $10 per person includes beer sampling.  (Must be 21 years of age or older to sample beer.)
X-ALT-DESC;FMTTYPE=text/html:<div class="heading-group text-left">\n<h1 class="heading-group-header ">Oktoberfest at Lake Lawn Resort</h1>\n</div>\n\n<div class="event-meta"><strong>When:</strong> Sep 30<br />\n<strong>From:</strong> 6:00 pm - 10:00 pm</div>\n\n<h3 style="text-align: center\;">Join us for an authentic Oktoberfest celebration!</h3>\n\n<p>&nbsp\;</p>\n\n<p><span style="color: #000000\; font-size: 14pt\;">Our festivities will include&nbsp\;German\, Seasonal\, and Craft beers\, a variety of Bavarian Festival foods\, and live entertainment by Twin Lakes Trio Polka Band.&nbsp\; The Twin Lakes Trio started in 1994 as an FFA talent contest polka band\, and after 30 years is still going strong!</span></p>\n\n<p><span style="color: #000000\; font-size: 14pt\;">Bring the entire family to enjoy the tastes and sounds of Germany under a lighted tent at the lakefront.&nbsp\;&nbsp\;</span></p>\n\n<h4>&nbsp\;</h4>\n\n<h4 style="text-align: center\;">Bavarian Festival Foods Menu</h4>\n\n<p style="text-align: center\;"><span style="color: #000000\; font-size: 14pt\;">Warm Bavarian Pretzel with Beer Mustard &ndash\; $5</span></p>\n\n<p style="text-align: center\;"><span style="color: #000000\; font-size: 14pt\;">Grilled Bratwurst with Caraway Sauerkraut on Pretzel Bun &ndash\; $7</span></p>\n\n<p style="text-align: center\;"><span style="color: #000000\; font-size: 14pt\;">Beef Knockwurst on Pretzel Bun &ndash\; $6</span></p>\n\n<p style="text-align: center\;"><span style="color: #000000\; font-size: 14pt\;">Pint of Beer Cheese Soup with Soft Pretzel Croutons &ndash\; $5</span></p>\n\n<p style="text-align: center\;"><span style="color: #000000\; font-size: 14pt\;">Roasted Pork Shoulder Sandwich with Lager Sauce on Pretzel Roll &ndash\; $7</span></p>\n\n<p style="text-align: center\;"><span style="color: #000000\; font-size: 14pt\;">Warm German Potato Salad &ndash\; $3</span></p>\n\n<p style="text-align: center\;"><span style="color: #000000\; font-size: 14pt\;">Bavarian Platter &ndash\; $13</span></p>\n\n<p style="text-align: center\;"><span style="color: #000000\; font-size: 14pt\;">&nbsp\; &nbsp\; &nbsp\; &nbsp\; &nbsp\; <em>Includes a cup of Beer Cheese Soup\, Warm Potato Salad\, Braised Red Cabbage with Apples and Strawberries\, </em></span></p>\n\n<p style="text-align: center\;"><span style="font-size: 14pt\;"><em><span style="color: #000000\;">Bratwurst with Caraway Sauerkraut and choice of Strudel.</span></em></span></p>\n\n<p style="text-align: center\;"><span style="color: #000000\; font-size: 14pt\;">DESSERTS:</span></p>\n\n<p style="text-align: center\;"><span style="color: #000000\; font-size: 14pt\;">Kirschstrudel (Cherry Strudel) &ndash\; $4</span></p>\n\n<p style="text-align: center\;"><span style="color: #000000\; font-size: 14pt\;">Apfelstrudel (Apple Strudel) &ndash\; $4</span></p>\n\n<p style="text-align: center\;"><span style="color: #000000\; font-size: 14pt\;">Schwarzwalder Kirschtorte (Black Forest Cake) &ndash\; $7</span></p>\n\n<p>&nbsp\;</p>\n\n<p><span style="font-size: 14pt\; color: #000000\;">**Admission of $10 per person includes beer sampling.&nbsp\; (Must be 21 years of age or older to sample beer.)</span></p>\n
LOCATION:Location: Lakeside Bandstand 2400 E. Geneva St. Delavan\, WI 53115
UID:e.2059.6095
SEQUENCE:3
DTSTAMP:20260422T215117Z
URL:https://business.elkhornchamber.com/events/details/oktoberfest-at-lake-lawn-resort-6095
END:VEVENT

END:VCALENDAR
