BEGIN:VCALENDAR
VERSION:2.0
PRODID:-//ChamberMaster//Event Calendar 2.0//EN
METHOD:PUBLISH
X-PUBLISHED-TTL:P3D
REFRESH-INTERVAL:P3D
CALSCALE:GREGORIAN
BEGIN:VEVENT
DTSTART:20140927T230000Z
DTEND:20140928T030000Z
X-MICROSOFT-CDO-ALLDAYEVENT:FALSE
SUMMARY:Oktoberfest at Evergreen Golf Club
DESCRIPTION:Celebrate Oktoberfest at Evergreen Golf Club. Dance your polka off to the world famous Larry Wysocki Quartet from 7pm - 10pm. Craft Beer sampling will be featured along with a full bar and German foods. Break out the lederhosen for the costume contest with prizes. Cover charge includes 3 sampling tickets and an official Evergreen Oktoberfest souvenir glass.
X-ALT-DESC;FMTTYPE=text/html:Celebrate Oktoberfest at Evergreen Golf Club. Dance your polka off to the world famous Larry Wysocki Quartet from 7pm - 10pm. Craft Beer sampling will be featured along with a full bar and German foods. Break out the lederhosen for the costume contest with prizes. Cover charge includes 3 sampling tickets and an official Evergreen Oktoberfest souvenir glass.
LOCATION:Evergreen Golf Club N6246 Hwy 12\, Elkhorn
UID:e.2059.496
SEQUENCE:3
DTSTAMP:20260425T134552Z
URL:https://business.elkhornchamber.com/events/details/oktoberfest-at-evergreen-golf-club-09-27-2014-496
END:VEVENT

END:VCALENDAR
