BEGIN:VCALENDAR
VERSION:2.0
PRODID:-//ChamberMaster//Event Calendar 2.0//EN
METHOD:PUBLISH
X-PUBLISHED-TTL:P3D
REFRESH-INTERVAL:P3D
CALSCALE:GREGORIAN
BEGIN:VEVENT
DTSTART:20190928T200000Z
DTEND:20190928T230000Z
X-MICROSOFT-CDO-ALLDAYEVENT:FALSE
SUMMARY:Oaktoberfest Craft Beer Hike
DESCRIPTION:Enjoy brews and views with your friends and neighbors. Quaff among the oaks and discover the scenic and botanical beauties of the preserve. Guided interpretive tours will be available\, led by KMLT's Greg Rajsky. Snacks\, fresh beverages\, and surprises are to be found upon the trail. Learn about our glacial heritage and our native flora\, or simply hike on your own to discover what Nature has to offer. Afterwards stop at Lauderdale Landing for a burger and fixings. Park at Lauderdale Landing\, W5625 Westshore Drive\, Elkhorn 53121. Free shuttle from Lauderdale Landing to the event (less than half a mile along Oak Park Road.) Hikes (and toasts) begin from the trailhead at the eastern end of Oak Park Road. Tickets $25 in advance available on EventBrite (on or before September 23)\; $35 on site\; tickets include beverages and hamburgers. All proceeds benefit the conservation efforts of Kettle Moraine Land Trust.
X-ALT-DESC;FMTTYPE=text/html:Enjoy brews and views with your friends and neighbors. Quaff among the oaks and discover the scenic and botanical beauties of the preserve. Guided interpretive tours will be available\, led by KMLT&rsquo\;s Greg Rajsky. Snacks\, fresh beverages\, and surprises are to be found upon the trail. Learn about our glacial heritage and our native flora\, or simply hike on your own to discover what Nature has to offer. Afterwards stop at Lauderdale Landing for a burger and fixings. Park at Lauderdale Landing\, W5625 Westshore Drive\, Elkhorn 53121. Free shuttle from Lauderdale Landing to the event (less than half a mile along Oak Park Road.) Hikes (and toasts) begin from the trailhead at the eastern end of Oak Park Road. Tickets $25 in advance available on EventBrite (on or before September 23)\; $35 on site\; tickets include beverages and hamburgers. All proceeds benefit the conservation efforts of Kettle Moraine Land Trust.
LOCATION:Petersen Island Woods Preserve\, Oak Park Road\, Elkhorn.
UID:e.2059.11111
SEQUENCE:3
DTSTAMP:20260420T120547Z
URL:https://business.elkhornchamber.com/events/details/oaktoberfest-craft-beer-hike-11111
END:VEVENT

END:VCALENDAR
