BEGIN:VCALENDAR
VERSION:2.0
PRODID:-//ChamberMaster//Event Calendar 2.0//EN
METHOD:PUBLISH
X-PUBLISHED-TTL:P3D
REFRESH-INTERVAL:P3D
CALSCALE:GREGORIAN
BEGIN:VEVENT
DTSTART;VALUE=DATE:20171125
DTEND;VALUE=DATE:20171126
TRANSP:TRANSPARENT
X-MICROSOFT-CDO-ALLDAYEVENT:TRUE
SUMMARY:Nutcracker Suite Ballet at Lake Lawn Resort
DESCRIPTION:When: Nov 25\n\nFrom: 7:30 pm - 9:00 pm\n\nWarm memories often begin with holiday traditions. Tchaikovsky's most famous ballet\, The Nutcracker\, is performed annually at Lake Lawn Resort by accomplished dancers from The Dance Factory. These delightful vignettes feature talented area youth\, gorgeous costumes\, and gifted dancers. The Nutcracker ballet is based on the story The Nutcracker and the King of Mice written by E.T.A. Hoffman. It's the story of a young girl who dreams of a Nutcracker Prince. Enjoy this lively performance of the classic tale in the Geneva Ballroom at Lake Lawn Resort.
X-ALT-DESC;FMTTYPE=text/html:<div class="event-meta"><strong>When:</strong> Nov 25<br />\n<strong>From:</strong> 7:30 pm - 9:00 pm</div>\n\n<p><span style="font-size: 14pt\; color: #000000\;">Warm memories often begin with holiday traditions. Tchaikovsky&rsquo\;s most famous ballet\, The Nutcracker\, is performed annually at Lake Lawn Resort by accomplished dancers from The Dance Factory. These delightful vignettes feature talented area youth\, gorgeous costumes\, and gifted dancers. The Nutcracker ballet is based on the story The Nutcracker and the King of Mice written by E.T.A. Hoffman. It&rsquo\;s the story of a young girl who dreams of a Nutcracker Prince. Enjoy this lively performance of the classic tale in the Geneva Ballroom at Lake Lawn Resort.</span></p>\n
LOCATION:Location: Lake Lawn Resort 2400 E. Geneva St. Delavan\, 53115
UID:e.2059.7333
SEQUENCE:3
DTSTAMP:20260422T200002Z
URL:https://business.elkhornchamber.com/events/details/nutcracker-suite-ballet-at-lake-lawn-resort-7333
END:VEVENT

END:VCALENDAR
