BEGIN:VCALENDAR
VERSION:2.0
PRODID:-//ChamberMaster//Event Calendar 2.0//EN
METHOD:PUBLISH
X-PUBLISHED-TTL:P3D
REFRESH-INTERVAL:P3D
CALSCALE:GREGORIAN
BEGIN:VEVENT
DTSTART:20190910T233000Z
DTEND:20190911T010000Z
X-MICROSOFT-CDO-ALLDAYEVENT:FALSE
SUMMARY:Not Enough Apologies: Trauma Stories
DESCRIPTION:Please join the library\, in partnership with New Beginnings APFV and Wisconsin Public Television for a viewing of Not Enough Apologies with a discussion of the effects of childhood trauma\, and the techniques that are used to treat it. \n\nStaff from New Beginnings will be on hand to discuss their observations on these important issues.
X-ALT-DESC;FMTTYPE=text/html:<p style="text-align:center"><span style="background-color:transparent\; font-family:arial\,helvetica\,sans-serif\; font-size:16px">Please join the library\, in partnership with New Beginnings APFV and Wisconsin Public Television for a viewing of&nbsp\;</span><em style="background-color:transparent\; font-family:arial\,helvetica\,sans-serif\; font-size:16px">Not Enough Apologies&nbsp\;</em><span style="font-size:16px"><span style="font-family:arial\,helvetica\,sans-serif"><span style="background-color:transparent">with a discussion of the effects of childhood trauma\,&nbsp\;</span></span></span><span style="background-color:transparent\; font-family:arial\,helvetica\,sans-serif\; font-size:16px">and the techniques that are used to treat it.&nbsp\;</span><br />\n<span style="background-color:transparent\; font-family:arial\,helvetica\,sans-serif\; font-size:16px">Staff from New Beginnings will be on hand to discuss their observations on these important issues.</span><br />\n&nbsp\;</p>\n\n<div>&nbsp\;</div>\n\n<p style="text-align:center">&nbsp\;</p>\n
LOCATION:Matheson Memorial Library
UID:e.2059.11100
SEQUENCE:3
DTSTAMP:20260421T054711Z
URL:https://business.elkhornchamber.com/events/details/not-enough-apologies-trauma-stories-11100
END:VEVENT

END:VCALENDAR
