BEGIN:VCALENDAR
VERSION:2.0
PRODID:-//ChamberMaster//Event Calendar 2.0//EN
METHOD:PUBLISH
X-PUBLISHED-TTL:P3D
REFRESH-INTERVAL:P3D
CALSCALE:GREGORIAN
BEGIN:VEVENT
DTSTART:20150606T180000Z
DTEND:20150607T030000Z
X-MICROSOFT-CDO-ALLDAYEVENT:FALSE
SUMMARY:Night Under the Lights III = NUTLFEST
DESCRIPTION:The fun starts at 1:00 PM!  Food & games\, live music\, competitions\, and an outdoor movie at dusk!  Register for one or all 3 of the following events at www.nutlfest.com:\n\n* Home Run Derby\n\n* Benny the Jet\n\n* Around the Horn
X-ALT-DESC;FMTTYPE=text/html:The fun starts at 1:00 PM!&nbsp\; Food &amp\; games\, live music\, competitions\, and an outdoor movie at dusk!&nbsp\; Register for one or all 3 of the following events at <a href="http://www.nutlfest.com">www.nutlfest.com</a>:<br />\n* Home Run Derby<br />\n* Benny the Jet<br />\n* Around the Horn
LOCATION:Sunset Park
UID:e.2059.1582
SEQUENCE:3
DTSTAMP:20260424T211225Z
URL:https://business.elkhornchamber.com/events/details/night-under-the-lights-iii-nutlfest-06-06-2015-1582
END:VEVENT

END:VCALENDAR
