BEGIN:VCALENDAR
VERSION:2.0
PRODID:-//ChamberMaster//Event Calendar 2.0//EN
METHOD:PUBLISH
X-PUBLISHED-TTL:P3D
REFRESH-INTERVAL:P3D
CALSCALE:GREGORIAN
BEGIN:VEVENT
DTSTART:20140606T220000Z
DTEND:20140607T010000Z
X-MICROSOFT-CDO-ALLDAYEVENT:FALSE
SUMMARY:Night Under the Lights
DESCRIPTION:Baseball game hosted by the Elkhorn Recreation Department at Harris Park on Wright Street in Elkhorn.
X-ALT-DESC;FMTTYPE=text/html:Baseball game hosted by the Elkhorn Recreation Department at Harris Park on Wright Street in Elkhorn.
LOCATION:Harris Park Wright St.\, Elkhorn
UID:e.2059.252
SEQUENCE:3
DTSTAMP:20260425T163250Z
URL:https://business.elkhornchamber.com/events/details/night-under-the-lights-06-06-2014-252
END:VEVENT

END:VCALENDAR
