BEGIN:VCALENDAR
VERSION:2.0
PRODID:-//ChamberMaster//Event Calendar 2.0//EN
METHOD:PUBLISH
X-PUBLISHED-TTL:P3D
REFRESH-INTERVAL:P3D
CALSCALE:GREGORIAN
BEGIN:VEVENT
DTSTART:20160228T230000Z
DTEND:20160228T230000Z
X-MICROSOFT-CDO-ALLDAYEVENT:FALSE
SUMMARY:NIght of Love
DESCRIPTION:This event is produced by the American Culinary Federation- Geneva Lakes Chapter and its many generous sponsors to benefit the Open Arms Clinic and the Associations Education and Scholarships Program. This will be their 22nd Annual Night of Love.  Featuring local Chefs: Ben Janssen~Abbey Springs\, John Bogan~Lake Geneva School of Cooking\, David Ross~Lake Lawn Resort\, Deb Lampert~Covenant Harbor\, Russ Tronsen~Badger ProStart Program\, Ryne Harwick~Geneva National
X-ALT-DESC;FMTTYPE=text/html:This event is produced by the American Culinary Federation- Geneva Lakes Chapter and its many generous sponsors to benefit the Open Arms Clinic and the Associations Education and Scholarships Program. This will be their 22nd Annual Night of Love.&nbsp\; Featuring local Chefs: Ben Janssen~Abbey Springs\, John Bogan~Lake Geneva School of Cooking\, David Ross~Lake Lawn Resort\, Deb Lampert~Covenant Harbor\, Russ Tronsen~Badger ProStart Program\, Ryne Harwick~Geneva National
LOCATION:Geneva National Clubhouse
UID:e.2059.1943
SEQUENCE:3
DTSTAMP:20260424T080401Z
URL:https://business.elkhornchamber.com/events/details/night-of-love-02-28-2016-1943
END:VEVENT

END:VCALENDAR
