BEGIN:VCALENDAR
VERSION:2.0
PRODID:-//ChamberMaster//Event Calendar 2.0//EN
METHOD:PUBLISH
X-PUBLISHED-TTL:P3D
REFRESH-INTERVAL:P3D
CALSCALE:GREGORIAN
BEGIN:VEVENT
DTSTART:20180101T000000Z
DTEND:20180101T000000Z
X-MICROSOFT-CDO-ALLDAYEVENT:FALSE
SUMMARY:New Years Eve Bash @ Evergreen Country Club
DESCRIPTION:New Years Eve Bash @ Evergreen Country Club\nCelebrate New Years Eve at Evergreen!\n\n...Appetizers\, Cash Bar\, Dinner Buffet\, Comedy Show\,\n\nLive Music by Mike Stone Jazz Trio from 6:30pm until 8:30pm\, Champagne Toast & Late Night Snack\n\nAll for only $70 with tax & Service Charge\n\n6:00pm: Cash Bar\n\n6:30pm: Complimentary Appetizers\n\n\n\n7:30pm: Deluxe New Years Eve Dinner Buffet\n\n\n\n9:00pm: Comedy Show Featuring Comedian Larry "Uncle Lar'" Reeb\n\n\n\n10:00pm: to Midnight Grand DJ Entertainment\n\nNew Years Champagne Toast @ Midnight\nLate Night Snack
X-ALT-DESC;FMTTYPE=text/html:New Years Eve Bash @ Evergreen Country Club\n<p class="style250"><span class="style89">Celebrate New Years Eve at Evergreen!<br />\n<span class="style94">...Appetizers\, Cash Bar\, Dinner Buffet\, Comedy Show\,<br />\nLive Music by Mike Stone Jazz Trio from 6:30pm until 8:30pm\, Champagne Toast &amp\; Late Night Snack<br />\n<span class="style93">All for only $70 with tax &amp\; Service Charge</span></span></span></p>\n\n<p><span class="style84"><span class="style91">6:00pm: <strong>Cash Bar</strong><br />\n6:30pm: <strong>Complimentary Appetizers</strong><br />\n<br />\n7:30pm: <strong>Deluxe New Years Eve Dinner Buffet</strong></span></span><br />\n<br />\n<span class="style84"><span class="style91">9:00pm: <strong>Comedy Show Featuring Comedian Larry &quot\;Uncle Lar&#39\;&quot\; Reeb</strong></span></span><br />\n<br />\n<span class="style84"><span class="style91">10:00pm: to Midnight <strong>Grand DJ Entertainment</strong></span></span></p>\n\n<p><span class="style84"><span class="style91"><strong>New Years Champagne Toast</strong> @ Midnight</span></span></p>\n<span class="style84"><span class="style91"><strong>Late Night Snack</strong></span></span>
LOCATION:Evergreen Country Club N6246 US Highway 12 Elkhorn\, Wisconsin\, WI 53121
UID:e.2059.6083
SEQUENCE:3
DTSTAMP:20260422T165354Z
URL:https://business.elkhornchamber.com/events/details/new-years-eve-bash-evergreen-country-club-6083
END:VEVENT

END:VCALENDAR
