BEGIN:VCALENDAR
VERSION:2.0
PRODID:-//ChamberMaster//Event Calendar 2.0//EN
METHOD:PUBLISH
X-PUBLISHED-TTL:P3D
REFRESH-INTERVAL:P3D
CALSCALE:GREGORIAN
BEGIN:VEVENT
DTSTART;VALUE=DATE:20181231
DTEND;VALUE=DATE:20190101
TRANSP:TRANSPARENT
X-MICROSOFT-CDO-ALLDAYEVENT:TRUE
SUMMARY:New Year's Eve at Lake Lawn
DESCRIPTION:Lake Lawn Resort will once again be hosting its annual New Year's Eve festivities with multiple exciting NYE parties for all ages!\n\n \n\nNew Year's Eve Adults Party "Rocking New Year's Eve" adults-only party in the Great Room with live music\, dancing\, and bar service. The Rocking New Year's Eve Party is open to overnight guests\, as well as adult guests not on package and the public. Entry fee is $25 per adult and includes two drink tickets to use at the party\n\n \n\nBegin your New Year's Eve celebrating with a fine dining experience in the Frontier Restaurant. Chef Jeff Robinson and his culinary team have prepared a custom one-night-only menu toast to help you ring in the New Year along the lakeside at the signature Frontier Restaurant. has prepared a special menu for New Year's Eve that will be served from 5PM 10PM. Reservations can be made by calling 262.725.9155.\n\n \n\nALL OVERNIGHT PACKAGES:  Call: 262.728.7950\n\n \n\nMovies will play in the Madison Room from 7pm   midnight   See Sing\, Moana & Trolls \n\nGeneva Ballroom Party will have DJ entertainment where kids and parents can show off their best dance moves on our flashy dance floor with colorful lights\, lasers and video projection screens. Bar service will be available.\n\n \n\nNew Year's Eve comedy show party - Great Room - 8:30 PM until 1:30 AM\n\nA Champagne toast at midnight\n\nNEW YEAR'S EVE PRIX FIXE DINNER AT FRONTIER RESTAURANT\n\nReservations Required by calling 262.725.9155\n\n \n\nNEW YEAR'S EVE MUSICAL ENTERTAINMENT\n\nThe Lookout Bar & Eatery will have DJ entertainment and karaoke from 9PM until 1AM for guests that enjoy showing off their vocal talents. There will be party favors and a balloon drop and champagne toast at midnight. The Lookout becomes a 21 years and older party after 10 PM.
X-ALT-DESC;FMTTYPE=text/html:<p style="margin: 0pt 0px 0pt 0in\; padding: 0px\; color: rgb(53\, 28\, 117)\; font-family: georgia\, serif\; font-size: 12.09px\; text-align: center\; direction: ltr\; unicode-bidi: embed\; word-break: normal\;"><span style="font-size: 16pt\; font-family: Andalus\; color: black\;">Lake Lawn Resort will once again be hosting its annual New Year&rsquo\;s Eve festivities with multiple exciting NYE parties for all ages!</span></p>\n\n<p style="margin: 0pt 0px 0pt 0in\; padding: 0px\; color: rgb(53\, 28\, 117)\; font-family: georgia\, serif\; font-size: 12.09px\; direction: ltr\; unicode-bidi: embed\; word-break: normal\;">&nbsp\;</p>\n\n<p style="margin: 0pt 0px 0pt 0in\; padding: 0px\; color: rgb(53\, 28\, 117)\; font-family: georgia\, serif\; font-size: 12.09px\; direction: ltr\; unicode-bidi: embed\; word-break: normal\;"><span style="font-size: 12pt\; font-family: &quot\;Beauty and the Beast&quot\;\; color: black\;">New Year&rsquo\;s Eve Adults Party</span><span style="font-size: 12pt\; font-family: &quot\;Times New Roman&quot\;\; color: black\;">&nbsp\;&ldquo\;Rocking New Year&rsquo\;s Eve&rdquo\; adults-only party in the Great Room with live music\, dancing\, and bar service. The Rocking New Year&rsquo\;s Eve Party is open to overnight guests\, as well as adult guests not on package and the public. Entry fee is $25 per adult and includes two drink tickets to use at the party</span></p>\n\n<p style="margin: 0pt 0px 0pt 0in\; padding: 0px\; color: rgb(53\, 28\, 117)\; font-family: georgia\, serif\; font-size: 12.09px\; direction: ltr\; unicode-bidi: embed\; word-break: normal\;">&nbsp\;</p>\n\n<p style="margin: 0pt 0px 0pt 0in\; padding: 0px\; color: rgb(53\, 28\, 117)\; font-family: georgia\, serif\; font-size: 12.09px\; direction: ltr\; unicode-bidi: embed\; word-break: normal\;"><span style="font-size: 12pt\; font-family: &quot\;Times New Roman&quot\;\; color: black\;">Begin your New Year&rsquo\;s Eve celebrating with a fine dining experience in the Frontier Restaurant. Chef Jeff Robinson and his culinary team have prepared a custom one-night-only menu toast to help you ring in the New Year along the lakeside at the signature Frontier Restaurant. has prepared a special menu for New Year&rsquo\;s Eve that will be served from 5PM&ndash\;10PM. Reservations can be made by calling 262.725.9155.</span></p>\n\n<p style="margin: 0pt 0px 0pt 0in\; padding: 0px\; color: rgb(53\, 28\, 117)\; font-family: georgia\, serif\; font-size: 12.09px\; direction: ltr\; unicode-bidi: embed\; word-break: normal\;">&nbsp\;</p>\n\n<p style="margin: 0pt 0px 0pt 0in\; padding: 0px\; color: rgb(53\, 28\, 117)\; font-family: georgia\, serif\; font-size: 12.09px\; direction: ltr\; unicode-bidi: embed\; word-break: normal\;"><span style="font-size: 16pt\; font-family: &quot\;American Captain&quot\;\; color: black\;">ALL OVERNIGHT PACKAGES:&nbsp\; Call: 262.728.7950</span></p>\n\n<p style="margin: 0pt 0px 0pt 0in\; padding: 0px\; color: rgb(53\, 28\, 117)\; font-family: georgia\, serif\; font-size: 12.09px\; direction: ltr\; unicode-bidi: embed\; word-break: normal\;">&nbsp\;</p>\n\n<p style="margin: 0pt 0px 0pt 0in\; padding: 0px\; color: rgb(53\, 28\, 117)\; font-family: georgia\, serif\; font-size: 12.09px\; direction: ltr\; unicode-bidi: embed\; word-break: normal\;"><span style="font-size: 12pt\; font-family: Aharoni\; color: black\;">Movies will play in the Madison Room from 7pm &ndash\; midnight &ndash\; See Sing\, Moana &amp\; Trolls&nbsp\;</span></p>\n\n<p style="margin: 0pt 0px 0pt 0in\; padding: 0px\; color: rgb(53\, 28\, 117)\; font-family: georgia\, serif\; font-size: 12.09px\; direction: ltr\; unicode-bidi: embed\; word-break: normal\;"><span style="font-size: 12pt\; font-family: &quot\;Banks Miles Single Line&quot\;\; color: black\;">Geneva Ballroom Party will have DJ entertainment where kids and parents can show off their best dance moves on our flashy dance floor with colorful lights\, lasers and video projection screens. Bar service will be available.</span></p>\n\n<p style="margin: 0pt 0px 0pt 0in\; padding: 0px\; color: rgb(53\, 28\, 117)\; font-family: georgia\, serif\; font-size: 12.09px\; direction: ltr\; unicode-bidi: embed\; word-break: normal\;">&nbsp\;</p>\n\n<p style="margin: 0pt 0px 0pt 0in\; padding: 0px\; color: rgb(53\, 28\, 117)\; font-family: georgia\, serif\; font-size: 12.09px\; direction: ltr\; unicode-bidi: embed\; word-break: normal\;"><span style="font-size: 16pt\; font-family: Candara\; color: black\; font-weight: bold\;">New Year&rsquo\;s Eve comedy show party</span><span style="font-size: 16pt\; font-family: Candara\; color: black\;">&nbsp\;</span><span style="font-size: 16pt\; font-family: Candara\; color: black\;">-&nbsp\;</span><span style="font-size: 16pt\; font-family: Candara\; color: black\;">Great Room</span><span style="font-size: 16pt\; font-family: Candara\; color: black\;">&nbsp\;</span><span style="font-size: 16pt\; font-family: Candara\; color: black\;">-&nbsp\;</span><span style="font-size: 16pt\; font-family: Candara\; color: black\;">8:30 PM until 1:30 AM</span></p>\n\n<p style="margin: 0pt 0px 0pt 0in\; padding: 0px\; color: rgb(53\, 28\, 117)\; font-family: georgia\, serif\; font-size: 12.09px\; direction: ltr\; unicode-bidi: embed\; word-break: normal\;"><span style="font-size: 24pt\; font-family: Bringshoot\; color: black\; font-weight: bold\;">A Champagne toast at midnight</span></p>\n\n<p style="margin: 0pt 0px 0pt 0in\; padding: 0px\; color: rgb(53\, 28\, 117)\; font-family: georgia\, serif\; font-size: 12.09px\; direction: ltr\; unicode-bidi: embed\; word-break: normal\;"><span style="font-size: 12pt\; font-family: Andalus\; color: black\; font-weight: bold\;">NEW YEAR&rsquo\;S EVE PRIX FIXE DINNER AT FRONTIER RESTAURANT</span><br />\n<span style="font-size: 12pt\; font-family: Andalus\; color: black\;">Reservations Required by calling 262.725.9155</span></p>\n\n<p style="margin: 0pt 0px 0pt 0in\; padding: 0px\; color: rgb(53\, 28\, 117)\; font-family: georgia\, serif\; font-size: 12.09px\; direction: ltr\; unicode-bidi: embed\; word-break: normal\;">&nbsp\;</p>\n\n<p style="margin: 0pt 0px 0pt 0in\; padding: 0px\; color: rgb(53\, 28\, 117)\; font-family: georgia\, serif\; font-size: 12.09px\; direction: ltr\; unicode-bidi: embed\; word-break: normal\;"><span style="font-size: 12pt\; font-family: &quot\;Eras Medium ITC&quot\;\; color: black\; font-weight: bold\;">NEW YEAR&rsquo\;S EVE MUSICAL ENTERTAINMENT</span><br />\n<span style="font-size: 12pt\; font-family: &quot\;Eras Medium ITC&quot\;\; color: black\;">The Lookout Bar &amp\; Eatery will have DJ entertainment and karaoke from 9PM until 1AM for guests that enjoy showing off their vocal talents. There will be party favors and a balloon drop and champagne toast at midnight. The Lookout becomes a 21 years and older party after 10 PM.</span></p>\n
LOCATION:Lake Lawn Resort 2400 E. Geneva St. Delavan\, 53115
UID:e.2059.10184
SEQUENCE:3
DTSTAMP:20260421T204716Z
URL:https://business.elkhornchamber.com/events/details/new-year-s-eve-at-lake-lawn-10184
END:VEVENT

END:VCALENDAR
