BEGIN:VCALENDAR
VERSION:2.0
PRODID:-//ChamberMaster//Event Calendar 2.0//EN
METHOD:PUBLISH
X-PUBLISHED-TTL:P3D
REFRESH-INTERVAL:P3D
CALSCALE:GREGORIAN
BEGIN:VEVENT
DTSTART;VALUE=DATE:20160226
DTEND;VALUE=DATE:20160227
TRANSP:TRANSPARENT
X-MICROSOFT-CDO-ALLDAYEVENT:TRUE
SUMMARY:New Member Promo GTS Performance & Fitness
DESCRIPTION:Are you ready for something different? Let's get Started!\n\n"We'll transform your fitness routine so you can transform your body." Michael Gonzalez & Morgan Krisch (GTS Owners)\n\nGTS Performance &  Fitness is running a New Member Promotion until March 31st. $99 - 1st Month: introductory rate
X-ALT-DESC;FMTTYPE=text/html:Are you ready for something different? Let's get Started!<br>\n"We'll transform your fitness routine so you can transform your body." Michael Gonzalez &amp\; Morgan Krisch (GTS Owners)<br>\nGTS Performance &amp\;&nbsp\; Fitness is running a New Member Promotion until March 31st. $99 - 1st Month: introductory rate
LOCATION:GTS Performance & Fitness 502 Nathan Ln. Elkhorn\, WI 53121
UID:e.2059.2049
SEQUENCE:3
DTSTAMP:20260424T080935Z
URL:https://business.elkhornchamber.com/events/details/new-member-promo-gts-performance-fitness-02-26-2016-2049
END:VEVENT

END:VCALENDAR
