BEGIN:VCALENDAR
VERSION:2.0
PRODID:-//ChamberMaster//Event Calendar 2.0//EN
METHOD:PUBLISH
X-PUBLISHED-TTL:P3D
REFRESH-INTERVAL:P3D
CALSCALE:GREGORIAN
BEGIN:VEVENT
DTSTART:20160730T140000Z
DTEND:20160730T140000Z
X-MICROSOFT-CDO-ALLDAYEVENT:FALSE
SUMMARY:Neon 5k Walk/Run
DESCRIPTION:Put on your brightest colors & join us for a\n\n5k Run/ Walk\n\nStop by Holton Manor to register\, sign up by June 16th to guarantee your shirt.\n\nWe don't Sweat....We GLOW!\n\nWe are a non-profit 501 (c)(3) facility\, all proceeds directly benefit the residents of Holton Manor.\n\nVolunteers Needed!
X-ALT-DESC;FMTTYPE=text/html:Put on your brightest colors &amp\; join us for a<br />\n<span style="font-size:18px\;"><span style="color:#0000FF\;"><strong>5k Run/ Walk</strong></span><br />\n<span style="font-size:16px\;">Stop by Holton Manor to register\, sign up by June 16th to guarantee your shirt.<br />\n<span style="color:#00FF00\;"><span style="font-size: 18px\;"><strong>We don&#39\;t Sweat....We GLOW!</strong></span></span><br />\n<span style="font-size: 18px\;"><span style="color:#000000\;"><span style="font-size:16px\;">We are a non-profit 501 (c)(3) facility\, all proceeds directly benefit the residents of Holton Manor.</span></span><br />\n<span style="color:#FF0000\;"><span style="font-size: 16px\;"><span style="font-size: 18px\;"><strong>Volunteers Needed! </strong></span></span></span></span></span></span>
LOCATION:Starting Location: 645 N. Broad St. Elkhorn\, WI 53121
UID:e.2059.4457
SEQUENCE:3
DTSTAMP:20260423T220021Z
URL:https://business.elkhornchamber.com/events/details/neon-5k-walk-run-07-30-2016-4457
END:VEVENT

END:VCALENDAR
