BEGIN:VCALENDAR
VERSION:2.0
PRODID:-//ChamberMaster//Event Calendar 2.0//EN
METHOD:PUBLISH
X-PUBLISHED-TTL:P3D
REFRESH-INTERVAL:P3D
CALSCALE:GREGORIAN
BEGIN:VEVENT
DTSTART:20160716T150000Z
DTEND:20160716T170000Z
X-MICROSOFT-CDO-ALLDAYEVENT:FALSE
SUMMARY:Nature Nourishes Hike: Wild Edibles
DESCRIPTION:Stop out at Natureland Park in Whitewater to join the Kettle Moriane Land Trust as they teach us about all the wild edibles and how nature can nourish us. There is a great demand for food resources in Walworth County so we are taking it back to Mother Nature to show us the beauty in wild edibles. We will then work our way through the park learning and exploring.
X-ALT-DESC;FMTTYPE=text/html:Stop out at Natureland Park in Whitewater to join the Kettle Moriane Land Trust as they teach us about all the wild edibles and how nature can nourish us. There is a great demand for food resources in Walworth County so we are taking it back to Mother Nature to show us the beauty in wild edibles. We will then work our way through the park learning and exploring.
LOCATION:Natureland Park W8338 Territorial Rd Whitewater\, WI 53190
UID:e.2059.3501
SEQUENCE:3
DTSTAMP:20260423T221100Z
URL:https://business.elkhornchamber.com/events/details/nature-nourishes-hike-wild-edibles-07-16-2016-3501
END:VEVENT

END:VCALENDAR
