BEGIN:VCALENDAR
VERSION:2.0
PRODID:-//ChamberMaster//Event Calendar 2.0//EN
METHOD:PUBLISH
X-PUBLISHED-TTL:P3D
REFRESH-INTERVAL:P3D
CALSCALE:GREGORIAN
BEGIN:VEVENT
DTSTART:20160618T150000Z
DTEND:20160618T170000Z
X-MICROSOFT-CDO-ALLDAYEVENT:FALSE
SUMMARY:Nature Nourishes Hike: In Touch with Trees
DESCRIPTION:Come out to the Tripp Lake Park to learn more about mother nature and how trees nourish us. We will have a professional speaker take us through the steps of nourishment. We will then take a walk through the park discovering all that mother nature has to offer.
X-ALT-DESC;FMTTYPE=text/html:Come out to the Tripp Lake Park to learn more about mother nature and how trees nourish us. We will have a professional speaker take us through the steps of nourishment. We will then take a walk through the park discovering all that mother nature has to offer.
LOCATION:Tripp Lake Park 407 S. Wisconsin Street Whitewater\, Wi 53190
UID:e.2059.3500
SEQUENCE:3
DTSTAMP:20260423T235019Z
URL:https://business.elkhornchamber.com/events/details/nature-nourishes-hike-in-touch-with-trees-06-18-2016-3500
END:VEVENT

END:VCALENDAR
