BEGIN:VCALENDAR
VERSION:2.0
PRODID:-//ChamberMaster//Event Calendar 2.0//EN
METHOD:PUBLISH
X-PUBLISHED-TTL:P3D
REFRESH-INTERVAL:P3D
CALSCALE:GREGORIAN
BEGIN:VEVENT
DTSTART:20160813T180000Z
DTEND:20160813T210000Z
X-MICROSOFT-CDO-ALLDAYEVENT:FALSE
SUMMARY:Nature Nourishes Hike: Hand-Feed Monarchs
DESCRIPTION:Join Kettle Moraine Land Trust for a great opportunity to tune into Mother Nature and explore Price Park. Learn how native pollinators nourish us.
X-ALT-DESC;FMTTYPE=text/html:Join Kettle Moraine Land Trust for a great opportunity to tune into Mother Nature and explore Price Park. Learn how native pollinators nourish us.
LOCATION:Price Park Consercancy N68418 Hodunk Rd Elkhorn\, WI 53121
UID:e.2059.3502
SEQUENCE:3
DTSTAMP:20260423T205259Z
URL:https://business.elkhornchamber.com/events/details/nature-nourishes-hike-hand-feed-monarchs-08-13-2016-3502
END:VEVENT

END:VCALENDAR
