BEGIN:VCALENDAR
VERSION:2.0
PRODID:-//ChamberMaster//Event Calendar 2.0//EN
METHOD:PUBLISH
X-PUBLISHED-TTL:P3D
REFRESH-INTERVAL:P3D
CALSCALE:GREGORIAN
BEGIN:VEVENT
DTSTART:20170801T213000Z
DTEND:20170802T013000Z
X-MICROSOFT-CDO-ALLDAYEVENT:FALSE
SUMMARY:National Night Out- Walworth County
DESCRIPTION:National Night Out - Walworth County is being organized this year with the assistance of all Law Enforcement Agencies within Walworth County. This is a one of a kind event\, in your own backyard! Along with Law Enforcement\, the Walworth County Crime Stoppers has joined full force in bringing you this fabulous evening for people of all ages. Come on out for food\, music\, demonstrations\, and tons of memories.\n\n\n\nThere will be Police\, Fire\, and EMS vehicles from all over Walworth County on hand for all to see\, along with K9 Units and a special visit from Flight For Life.\n\n\n\nThis event is great for children\, but we encourage all ages to attend!\n\nWe have finalized the agenda for the 2017 National Night Out - Walworth County. Below you will find some of the activities occurring throughout the night.\n\nWe will be having a Law Enforcement K9 Demonstration\, Police Drone Demonstration\, a Mock Crash Scene\, Tow Truck Demonstration\, Kids Games and Bouncy House\, a special visit from the Flight for Life Helicopter\, Science Alliance Presentation\, and much more.\n\nRemember\, the event is free\, the parking is free\, and the food and entertainment is free. This year's event will include live music!\n\n\nAs always\, thank you for your continued support of National Night Out!
X-ALT-DESC;FMTTYPE=text/html:<p>National Night Out - Walworth County is being organized this year with the assistance of all Law Enforcement Agencies within Walworth County. This is a one of a kind event\, in your own backyard! Along with Law Enforcement\, the Walworth County Crime Stoppers has joined full force in bringing you this fabulous evening for people of all ages. Come on out for food\, music\, demonstrations\, and tons of memories.<br />\n<br />\nThere will be Police\, Fire\, and EMS vehicles from all over Walworth County on hand for all to see\, along with K9 Units and a special visit from Flight For Life.<br />\n<br />\nThis event is great for children\, but we encourage all ages to attend!<br />\nWe have finalized the agenda for the 2017 National Night Out - Walworth County. Below you will find some of the activities occurring throughout the night.</p>\n\n<p>We will be having a Law Enforcement K9 Demonstration\, Police Drone Demonstration\, a Mock Crash Scene\, Tow Truck Demonstration\, Kids Games and Bouncy House\, a special visit from the Flight for Life Helicopter\, Science Alliance Presentation\, and much more.</p>\n\n<p>Remember\, the event is free\, the parking is free\, and the food and <span class="text_exposed_show">entertainment is free. This year&#39\;s event will include live music!</span></p>\n\n<div class="text_exposed_show">\n<p>As always\, thank you for your continued support of National Night Out!</p>\n</div>\n
LOCATION:Walworth County Fairgrounds 411 E. Court Street Elkhorn\, Wi 53121
UID:e.2059.5495
SEQUENCE:3
DTSTAMP:20260423T011400Z
URL:https://business.elkhornchamber.com/events/details/national-night-out-walworth-county-5495
END:VEVENT

END:VCALENDAR
