BEGIN:VCALENDAR
VERSION:2.0
PRODID:-//ChamberMaster//Event Calendar 2.0//EN
METHOD:PUBLISH
X-PUBLISHED-TTL:P3D
REFRESH-INTERVAL:P3D
CALSCALE:GREGORIAN
BEGIN:VEVENT
DTSTART;VALUE=DATE:20160802
DTEND;VALUE=DATE:20160803
TRANSP:TRANSPARENT
X-MICROSOFT-CDO-ALLDAYEVENT:TRUE
SUMMARY:National Ligths Out Night
DESCRIPTION:More details to come.
X-ALT-DESC;FMTTYPE=text/html:More details to come.
LOCATION:Walworth County Fairgrounds 411 E. Court St Elkhorn\, WI
UID:e.2059.2086
SEQUENCE:3
DTSTAMP:20260423T204910Z
URL:https://business.elkhornchamber.com/events/details/national-ligths-out-night-08-02-2016-2086
END:VEVENT

END:VCALENDAR
