BEGIN:VCALENDAR
VERSION:2.0
PRODID:-//ChamberMaster//Event Calendar 2.0//EN
METHOD:PUBLISH
X-PUBLISHED-TTL:P3D
REFRESH-INTERVAL:P3D
CALSCALE:GREGORIAN
BEGIN:VEVENT
DTSTART:20190508T233000Z
DTEND:20190509T013000Z
X-MICROSOFT-CDO-ALLDAYEVENT:FALSE
SUMMARY:National Guard Open House
DESCRIPTION:Discover what it means to serve part-time and receive full-time benefits. Join SFC Texidor for an informational seminar on the benefits of the Wisconsin Army National Guard on May 8th from 6:30 - 8:30 pm at Advia Credit Union Community Room.
X-ALT-DESC;FMTTYPE=text/html:Discover what it means to serve part-time and receive full-time benefits. Join SFC Texidor for an informational seminar on the benefits of the Wisconsin Army National Guard on May 8th from 6:30 - 8:30 pm at Advia Credit Union Community Room.&nbsp\;
LOCATION:Advia Credit Union Community Room 837 N Wisconsin Street Elkhorn WI 53121
UID:e.2059.10840
SEQUENCE:3
DTSTAMP:20260421T134444Z
URL:https://business.elkhornchamber.com/events/details/national-guard-open-house-10840
END:VEVENT

END:VCALENDAR
