BEGIN:VCALENDAR
VERSION:2.0
PRODID:-//ChamberMaster//Event Calendar 2.0//EN
METHOD:PUBLISH
X-PUBLISHED-TTL:P3D
REFRESH-INTERVAL:P3D
CALSCALE:GREGORIAN
BEGIN:VEVENT
DTSTART:20180217T030000Z
DTEND:20180217T060000Z
X-MICROSOFT-CDO-ALLDAYEVENT:FALSE
SUMMARY:N.E.W. Dueling Piano Guys at Lake Lawn Resort
DESCRIPTION:BACK BY POPULAR DEMAND!\n\nThe N E W Piano Guys return to Lake Lawn Resort! Wisconsin's premier dueling piano group will be performing during Sky Circus on Ice weekend. Come out for a fun night of music ranging from Billy Joel to Britney Spears to Bruno Mars! N E W Piano Guys are the perfect combination of concert\, comedy & creativity! The show will be held in the Geneva Ballroom Stage at Lake Lawn Resort.\n\nDuelingPianosLLR.eventbrite.com
X-ALT-DESC;FMTTYPE=text/html:<p><span style="font-size: 14pt\; color: #000000\;">BACK BY POPULAR DEMAND!</span><br />\n<span style="font-size: 14pt\; color: #000000\;">The N E W Piano Guys return to Lake Lawn Resort! Wisconsin&rsquo\;s premier dueling piano group will be performing during Sky Circus on Ice weekend. Come out for a fun night of music ranging from Billy Joel to Britney Spears to Bruno Mars! N E W Piano Guys are the perfect combination of concert\, comedy &amp\; creativity! The show will be held in the Geneva Ballroom Stage at Lake Lawn Resort.<br />\n<strong><a href="https://duelingpianosLLR.eventbrite.com">DuelingPianosLLR.eventbrite.com</a></strong></span></p>\n
LOCATION:Location: Lake Lawn Resort 2400 E. Geneva St. Delavan\, 53115
UID:e.2059.7512
SEQUENCE:3
DTSTAMP:20260422T150917Z
URL:https://business.elkhornchamber.com/events/details/n-e-w-dueling-piano-guys-at-lake-lawn-resort-7512
END:VEVENT

END:VCALENDAR
