BEGIN:VCALENDAR
VERSION:2.0
PRODID:-//ChamberMaster//Event Calendar 2.0//EN
METHOD:PUBLISH
X-PUBLISHED-TTL:P3D
REFRESH-INTERVAL:P3D
CALSCALE:GREGORIAN
BEGIN:VEVENT
DTSTART:20181229T020000Z
DTEND:20181229T050000Z
X-MICROSOFT-CDO-ALLDAYEVENT:FALSE
SUMMARY:N.E.W. Dueling Piano Guys at Lake Lawn Resort
DESCRIPTION:N.E.W. Piano Guys are returning to Lake Lawn Resort! Wisconsin's premier dueling piano entertainers will perform high energy shows over the holidays on December 27th\, 28th & 29th.\n\n \n\nCome out for a fun night of music ranging from Billy Joel to Britney Spears to Bruno Mars. N.E.W. Piano Guys are the perfect combination of concert\, comedy & creativity! The three hour show will be held in the Geneva Ballroom\, providing a great setting for this entertaining show!
X-ALT-DESC;FMTTYPE=text/html:<p style="margin: 0pt 0px 0pt 0in\; padding: 0px\; color: rgb(53\, 28\, 117)\; font-family: georgia\, serif\; font-size: 12.09px\; text-align: center\; direction: ltr\; unicode-bidi: embed\; word-break: normal\;"><span style="font-size: 20pt\; font-family: &quot\;Trebuchet MS&quot\;\; color: black\; font-weight: bold\;">N.E.W. Piano Guys are returning to Lake Lawn Resort! Wisconsin&rsquo\;s premier dueling piano entertainers will perform high energy shows over the holidays on December 27th\, 28th &amp\; 29th.</span></p>\n\n<p style="margin: 0pt 0px 0pt 0in\; padding: 0px\; color: rgb(53\, 28\, 117)\; font-family: georgia\, serif\; font-size: 12.09px\; text-align: center\; direction: ltr\; unicode-bidi: embed\; word-break: normal\;">&nbsp\;</p>\n\n<p style="margin: 0pt 0px 0pt 0in\; padding: 0px\; color: rgb(53\, 28\, 117)\; font-family: georgia\, serif\; font-size: 12.09px\; text-align: center\; direction: ltr\; unicode-bidi: embed\; word-break: normal\;"><span style="font-size: 14pt\; font-family: &quot\;Trebuchet MS&quot\;\; color: black\;">Come out for a fun night of music ranging from Billy Joel to Britney Spears to Bruno Mars. N.E.W. Piano Guys are the perfect combination of concert\, comedy &amp\; creativity! The three hour show will be held in the Geneva Ballroom\, providing a great setting for this entertaining show!</span></p>\n\n<p>&nbsp\;</p>\n
LOCATION:Location: Lake Lawn Resort 2400 E. Geneva St. Delavan\, 53115
UID:e.2059.10167
SEQUENCE:3
DTSTAMP:20260421T204915Z
URL:https://business.elkhornchamber.com/events/details/n-e-w-dueling-piano-guys-at-lake-lawn-resort-10167
END:VEVENT

END:VCALENDAR
